Workbook

Sheet 24-01-010 Ind. Prog. Bonif. 
A1: PARTIDA 21-01-05 "INGRESO ÉTICO FAMILIAR Y SISTEMA CHILE SOLIDARIO"
A2: INFORME POR PROGRAMA Y REGIÓN
A3: EJECUCIÓN AL 30 SEPTIEMBRE DE 2026
A4: En pesos
A5: 24-01-010 "Programa Bonificación Ley N°20.595"
A6: Nº | B6: Código Proyecto | C6: REGION | D6: Fecha | E6: Nombre y Razón Social del Ejecutor | F6: Denominación del Programa- Convenio o Transferencia | G6: Modalidad de Asignación | H6: Vigencia del Convenio | J6: Presupuesto por región | K6: Monto del convenio | L6: Productos/y/o Actividades | M6: Beneficiarios | P6: Modalidad de Pago | Q6: Observaciones | R6: EJECUCION DEVENGADA | U6: 1er. Trimestre | V6: EJECUCION DEVENGADA | Y6: 2do. Trimestre | Z6: EJECUCION DEVENGADA | AC6: 3er. Trimestre | AD6: EJECUCION DEVENGADA | AG6: 4to. Trimestre | AH6: Total Anual | AI6: Porcentaje de Participación:
C7: Resolución o Decreto | H7: Inicio | I7: Término | M7: Cobertura | N7: Universo | O7: Tipo de Beneficiarios | R7: Enero | S7: Febrero | T7: Marzo | V7: Abril | W7: Mayo | X7: Junio | Z7: Julio | AA7: Agosto | AB7: Septiembre | AD7: Octubre | AE7: Noviembre | AF7: Diciembre | AI7: Ejecución | AJ7: Del Gasto
A8: TARAPACÁ
A9: 1 | U9: =SUM(R9:T9) -> 0 | Y9: =SUM(V9:X9) -> 0 | AC9: =SUM(Z9:AB9) -> 0 | AG9: =SUM(AD9:AF9) -> 0 | AH9: =SUM(U9,Y9,AC9,AG9) -> 0 | AI9: =IF(ISERROR(AH9/J9),0,AH9/J9) -> 0 | AJ9: =IF(ISERROR(AH9/$AH$77),"-",AH9/$AH$77) -> 0
A10: 2 | U10: =SUM(R10:T10) -> 0 | Y10: =SUM(V10:X10) -> 0 | AC10: =SUM(Z10:AB10) -> 0 | AG10: =SUM(AD10:AF10) -> 0 | AH10: =SUM(U10,Y10,AC10,AG10) -> 0 | AI10: =IF(ISERROR(AH10/J10),0,AH10/J10) -> 0 | AJ10: =IF(ISERROR(AH10/$AH$77),"-",AH10/$AH$77) -> 0
A11: TOTAL REGIÓN DE TARAPACÁ | J11: =SUM(J9:J10) -> 0 | K11: =SUM(K9:K10) -> 0 | M11: =SUM(M9:M10) -> 0 | N11: =SUM(N9:N10) -> 0 | O11: =SUM(O9:O10) -> 0 | R11: =SUM(R9:R10) -> 0 | S11: =SUM(S9:S10) -> 0 | T11: =SUM(T9:T10) -> 0 | U11: =SUM(U9:U10) -> 0 | V11: =SUM(V9:V10) -> 0 | W11: =SUM(W9:W10) -> 0 | X11: =SUM(X9:X10) -> 0 | Y11: =SUM(Y9:Y10) -> 0 | ... AH11: =SUM(AH9:AH10) -> 0 | AI11: =IF(ISERROR(AH11/J11),0,AH11/J11) -> 0 | AJ11: =IF(ISERROR(AH11/$AH$77),0,AH11/$AH$77) -> 0
A12: ANTOFAGASTA
A13: 1 | U13: =SUM(R13:T13) -> 0 | Y13: =SUM(V13:X13) -> 0 | AC13: =SUM(Z13:AB13) -> 0 | AG13: =SUM(AD13:AF13) -> 0 | AH13: =SUM(U13,Y13,AC13,AG13) -> 0 | AI13: =IF(ISERROR(AH13/J13),0,AH13/J13) -> 0 | AJ13: =IF(ISERROR(AH13/$AH$77),"-",AH13/$AH$77) -> 0
A14: 2 | U14: =SUM(R14:T14) -> 0 | Y14: =SUM(V14:X14) -> 0 | AC14: =SUM(Z14:AB14) -> 0 | AG14: =SUM(AD14:AF14) -> 0 | AH14: =SUM(U14,Y14,AC14,AG14) -> 0 | AI14: =IF(ISERROR(AH14/J14),0,AH14/J14) -> 0 | AJ14: =IF(ISERROR(AH14/$AH$77),"-",AH14/$AH$77) -> 0
A15: TOTAL REGIÓN DE ANTOFAGASTA | J15: =SUM(J13:J14) -> 0 | K15: =SUM(K13:K14) -> 0 | M15: =SUM(M13:M14) -> 0 | N15: =SUM(N13:N14) -> 0 | O15: =SUM(O13:O14) -> 0 | R15: =SUM(R13:R14) -> 0 | S15: =SUM(S13:S14) -> 0 | T15: =SUM(T13:T14) -> 0 | U15: =SUM(U13:U14) -> 0 | V15: =SUM(V13:V14) -> 0 | W15: =SUM(W13:W14) -> 0 | X15: =SUM(X13:X14) -> 0 | Y15: =SUM(Y13:Y14) -> 0 | ... AH15: =SUM(AH13:AH14) -> 0 | AI15: =IF(ISERROR(AH15/J15),0,AH15/J15) -> 0 | AJ15: =IF(ISERROR(AH15/$AH$77),0,AH15/$AH$77) -> 0
A16: ATACAMA
A17: 1 | U17: =SUM(R17:T17) -> 0 | Y17: =SUM(V17:X17) -> 0 | AC17: =SUM(Z17:AB17) -> 0 | AG17: =SUM(AD17:AF17) -> 0 | AH17: =SUM(U17,Y17,AC17,AG17) -> 0 | AI17: =IF(ISERROR(AH17/J17),0,AH17/J17) -> 0 | AJ17: =IF(ISERROR(AH17/$AH$77),"-",AH17/$AH$77) -> 0
A18: 2 | U18: =SUM(R18:T18) -> 0 | Y18: =SUM(V18:X18) -> 0 | AC18: =SUM(Z18:AB18) -> 0 | AG18: =SUM(AD18:AF18) -> 0 | AH18: =SUM(U18,Y18,AC18,AG18) -> 0 | AI18: =IF(ISERROR(AH18/J18),0,AH18/J18) -> 0 | AJ18: =IF(ISERROR(AH18/$AH$77),"-",AH18/$AH$77) -> 0
A19: TOTAL REGIÓN DE ATACAMA | J19: =SUM(J17:J18) -> 0 | K19: =SUM(K17:K18) -> 0 | M19: =SUM(M17:M18) -> 0 | N19: =SUM(N17:N18) -> 0 | O19: =SUM(O17:O18) -> 0 | R19: =SUM(R17:R18) -> 0 | S19: =SUM(S17:S18) -> 0 | T19: =SUM(T17:T18) -> 0 | U19: =SUM(U17:U18) -> 0 | V19: =SUM(V17:V18) -> 0 | W19: =SUM(W17:W18) -> 0 | X19: =SUM(X17:X18) -> 0 | Y19: =SUM(Y17:Y18) -> 0 | ... AH19: =SUM(AH17:AH18) -> 0 | AI19: =IF(ISERROR(AH19/J19),0,AH19/J19) -> 0 | AJ19: =IF(ISERROR(AH19/$AH$77),0,AH19/$AH$77) -> 0
A20: COQUIMBO
A21: 1 | U21: =SUM(R21:T21) -> 0 | Y21: =SUM(V21:X21) -> 0 | AC21: =SUM(Z21:AB21) -> 0 | AG21: =SUM(AD21:AF21) -> 0 | AH21: =SUM(U21,Y21,AC21,AG21) -> 0 | AI21: =IF(ISERROR(AH21/J21),0,AH21/J21) -> 0 | AJ21: =IF(ISERROR(AH21/$AH$77),"-",AH21/$AH$77) -> 0
A22: 2 | U22: =SUM(R22:T22) -> 0 | Y22: =SUM(V22:X22) -> 0 | AC22: =SUM(Z22:AB22) -> 0 | AG22: =SUM(AD22:AF22) -> 0 | AH22: =SUM(U22,Y22,AC22,AG22) -> 0 | AI22: =IF(ISERROR(AH22/J22),0,AH22/J22) -> 0 | AJ22: =IF(ISERROR(AH22/$AH$77),"-",AH22/$AH$77) -> 0
A23: TOTAL REGIÓN DE COQUIMBO | J23: =SUM(J21:J22) -> 0 | K23: =SUM(K21:K22) -> 0 | M23: =SUM(M21:M22) -> 0 | N23: =SUM(N21:N22) -> 0 | O23: =SUM(O21:O22) -> 0 | R23: =SUM(R21:R22) -> 0 | S23: =SUM(S21:S22) -> 0 | T23: =SUM(T21:T22) -> 0 | U23: =SUM(U21:U22) -> 0 | V23: =SUM(V21:V22) -> 0 | W23: =SUM(W21:W22) -> 0 | X23: =SUM(X21:X22) -> 0 | Y23: =SUM(Y21:Y22) -> 0 | ... AH23: =SUM(AH21:AH22) -> 0 | AI23: =IF(ISERROR(AH23/J23),0,AH23/J23) -> 0 | AJ23: =IF(ISERROR(AH23/$AH$77),0,AH23/$AH$77) -> 0
A24: VALPARAÍSO | J24: 300000
A25: 1 | K25: 290051 | L25: Subtítulo 22 | U25: =SUM(R25:T25) -> 0 | W25: 199920 | Y25: =SUM(V25:X25) -> 199920 | Z25: 90131 | AC25: =SUM(Z25:AB25) -> 90131 | AE25: 0 | AF25: 0 | AG25: =SUM(AD25:AF25) -> 0 | AH25: =SUM(U25,Y25,AC25,AG25) -> 290051 | AI25: =IF(ISERROR(AH25/J24),0,AH25/J24) -> 0.96683667 | AJ25: =IF(ISERROR(AH25/$AH$77),"-",AH25/$AH$77) -> 5.2184005e-06
A26: 2 | U26: =SUM(R26:T26) -> 0 | Y26: =SUM(V26:X26) -> 0 | AC26: =SUM(Z26:AB26) -> 0 | AE26: 0 | AF26: 0 | AG26: =SUM(AD26:AF26) -> 0 | AH26: =SUM(U26,Y26,AC26,AG26) -> 0 | AI26: =IF(ISERROR(AH26/J26),0,AH26/J26) -> 0 | AJ26: =IF(ISERROR(AH26/$AH$77),"-",AH26/$AH$77) -> 0
A27: TOTAL REGIÓN DE VALPARAÍSO | J27: =+J24 -> 300000 | K27: =SUM(K25:K26) -> 290051 | M27: =SUM(M25:M26) -> 0 | N27: =SUM(N25:N26) -> 0 | O27: =SUM(O25:O26) -> 0 | R27: =SUM(R25:R26) -> 0 | S27: =SUM(S25:S26) -> 0 | T27: =SUM(T25:T26) -> 0 | U27: =SUM(U25:U26) -> 0 | V27: =SUM(V25:V26) -> 0 | W27: =SUM(W25:W26) -> 199920 | X27: =SUM(X25:X26) -> 0 | Y27: =SUM(Y25:Y26) -> 199920 | ... AH27: =SUM(AH25:AH26) -> 290051 | AI27: =IF(ISERROR(AH27/J27),0,AH27/J27) -> 0.96683667 | AJ27: =IF(ISERROR(AH27/$AH$77),0,AH27/$AH$77) -> 5.2184005e-06
A28: LIBERTADOR B. O HIGGINS
A29: 1 | U29: =SUM(R29:T29) -> 0 | Y29: =SUM(V29:X29) -> 0 | AC29: =SUM(Z29:AB29) -> 0 | AG29: =SUM(AD29:AF29) -> 0 | AH29: =SUM(U29,Y29,AC29,AG29) -> 0 | AI29: =IF(ISERROR(AH29/J29),0,AH29/J29) -> 0 | AJ29: =IF(ISERROR(AH29/$AH$77),"-",AH29/$AH$77) -> 0
A30: 2 | U30: =SUM(R30:T30) -> 0 | Y30: =SUM(V30:X30) -> 0 | AC30: =SUM(Z30:AB30) -> 0 | AG30: =SUM(AD30:AF30) -> 0 | AH30: =SUM(U30,Y30,AC30,AG30) -> 0 | AI30: =IF(ISERROR(AH30/J30),0,AH30/J30) -> 0 | AJ30: =IF(ISERROR(AH30/$AH$77),"-",AH30/$AH$77) -> 0
A31: TOTAL REGIÓN DEL LIBERTADOR GENERAL BERNARDO O'HIGGINS | J31: =SUM(J29:J30) -> 0 | K31: =SUM(K29:K30) -> 0 | M31: =SUM(M29:M30) -> 0 | N31: =SUM(N29:N30) -> 0 | O31: =SUM(O29:O30) -> 0 | R31: =SUM(R29:R30) -> 0 | S31: =SUM(S29:S30) -> 0 | T31: =SUM(T29:T30) -> 0 | U31: =SUM(U29:U30) -> 0 | V31: =SUM(V29:V30) -> 0 | W31: =SUM(W29:W30) -> 0 | X31: =SUM(X29:X30) -> 0 | Y31: =SUM(Y29:Y30) -> 0 | ... AH31: =SUM(AH29:AH30) -> 0 | AI31: =IF(ISERROR(AH31/J31),0,AH31/J31) -> 0 | AJ31: =IF(ISERROR(AH31/$AH$77),0,AH31/$AH$77) -> 0
A32: MAULE
A33: 1 | U33: =SUM(R33:T33) -> 0 | Y33: =SUM(V33:X33) -> 0 | AC33: =SUM(Z33:AB33) -> 0 | AG33: =SUM(AD33:AF33) -> 0 | AH33: =SUM(U33,Y33,AC33,AG33) -> 0 | AI33: =IF(ISERROR(AH33/J33),0,AH33/J33) -> 0 | AJ33: =IF(ISERROR(AH33/$AH$77),"-",AH33/$AH$77) -> 0
A34: 2 | U34: =SUM(R34:T34) -> 0 | Y34: =SUM(V34:X34) -> 0 | AC34: =SUM(Z34:AB34) -> 0 | AG34: =SUM(AD34:AF34) -> 0 | AH34: =SUM(U34,Y34,AC34,AG34) -> 0 | AI34: =IF(ISERROR(AH34/J34),0,AH34/J34) -> 0 | AJ34: =IF(ISERROR(AH34/$AH$77),"-",AH34/$AH$77) -> 0
A35: TOTAL REGIÓN DEL MAULE | J35: =SUM(J33:J34) -> 0 | K35: =SUM(K33:K34) -> 0 | M35: =SUM(M33:M34) -> 0 | N35: =SUM(N33:N34) -> 0 | O35: =SUM(O33:O34) -> 0 | R35: =SUM(R33:R34) -> 0 | S35: =SUM(S33:S34) -> 0 | T35: =SUM(T33:T34) -> 0 | U35: =SUM(U33:U34) -> 0 | V35: =SUM(V33:V34) -> 0 | W35: =SUM(W33:W34) -> 0 | X35: =SUM(X33:X34) -> 0 | Y35: =SUM(Y33:Y34) -> 0 | ... AH35: =SUM(AH33:AH34) -> 0 | AI35: =IF(ISERROR(AH35/J35),0,AH35/J35) -> 0 | AJ35: =IF(ISERROR(AH35/$AH$77),0,AH35/$AH$77) -> 0
A36: BIOBÍO
A37: 1 | U37: =SUM(R37:T37) -> 0 | Y37: =SUM(V37:X37) -> 0 | AC37: =SUM(Z37:AB37) -> 0 | AG37: =SUM(AD37:AF37) -> 0 | AH37: =SUM(U37,Y37,AC37,AG37) -> 0 | AI37: =IF(ISERROR(AH37/J37),0,AH37/J37) -> 0 | AJ37: =IF(ISERROR(AH37/$AH$77),"-",AH37/$AH$77) -> 0
A38: 2 | U38: =SUM(R38:T38) -> 0 | Y38: =SUM(V38:X38) -> 0 | AC38: =SUM(Z38:AB38) -> 0 | AG38: =SUM(AD38:AF38) -> 0 | AH38: =SUM(U38,Y38,AC38,AG38) -> 0 | AI38: =IF(ISERROR(AH38/J38),0,AH38/J38) -> 0 | AJ38: =IF(ISERROR(AH38/$AH$77),"-",AH38/$AH$77) -> 0
A39: TOTAL REGIÓN DEL BIOBÍO | J39: =SUM(J37:J38) -> 0 | K39: =SUM(K37:K38) -> 0 | M39: =SUM(M37:M38) -> 0 | N39: =SUM(N37:N38) -> 0 | O39: =SUM(O37:O38) -> 0 | R39: =SUM(R37:R38) -> 0 | S39: =SUM(S37:S38) -> 0 | T39: =SUM(T37:T38) -> 0 | U39: =SUM(U37:U38) -> 0 | V39: =SUM(V37:V38) -> 0 | W39: =SUM(W37:W38) -> 0 | X39: =SUM(X37:X38) -> 0 | Y39: =SUM(Y37:Y38) -> 0 | ... AH39: =SUM(AH37:AH38) -> 0 | AI39: =IF(ISERROR(AH39/J39),0,AH39/J39) -> 0 | AJ39: =IF(ISERROR(AH39/$AH$77),0,AH39/$AH$77) -> 0
A40: ARAUCANÍA
...

Sheet 24-01-010 Res. Prog. Bonif. 
A1: PARTIDA 21-01-05 "INGRESO ÉTICO FAMILIAR Y SISTEMA CHILE SOLIDARIO"
A2: INFORME POR PROGRAMA Y REGIÓN
A3: EJECUCIÓN AL 30 SEPTIEMBRE DE 2026
A4: En pesos
A5: 24-01-010 "Programa Bonificación Ley N°20.595"
A6: REGION | B6: Presupuesto por región | C6: Total Convenios | D6: Beneficiarios | G6: EJECUCION DEVENGADA | J6: 1er. Trimestre | K6: EJECUCION DEVENGADA | N6: 2do. Trimestre | O6: EJECUCION DEVENGADA | R6: 3er. Trimestre | S6: EJECUCION DEVENGADA | V6: 4to. Trimestre | W6: Total Anual | X6: Porcentaje de:
D7: Cobertura | E7: Universo | F7: Tipo de Beneficiarios | G7: Enero | H7: Febrero | I7: Marzo | K7: Abril | L7: Mayo | M7: Junio | O7: Julio | P7: Agosto | Q7: Septiembre | S7: Octubre | T7: Noviembre | U7: Diciembre | X7: Ejecución | Y7: Participación del Gasto
A8: TARAPACÁ | B8: =+'24-01-010 Ind. Prog. Bonif. '!J11 -> 0 | C8: =+'24-01-010 Ind. Prog. Bonif. '!K11 -> 0 | D8: =+'24-01-010 Ind. Prog. Bonif. '!M11 -> 0 | E8: =+'24-01-010 Ind. Prog. Bonif. '!N11 -> 0 | F8: =+'24-01-010 Ind. Prog. Bonif. '!O11 -> 0 | G8: =+'24-01-010 Ind. Prog. Bonif. '!R11 -> 0 | H8: =+'24-01-010 Ind. Prog. Bonif. '!S11 -> 0 | I8: =+'24-01-010 Ind. Prog. Bonif. '!T11 -> 0 | J8: =+'24-01-010 Ind. Prog. Bonif. '!U11 -> 0 | K8: =+'24-01-010 Ind. Prog. Bonif. '!V11 -> 0 | L8: =+'24-01-010 Ind. Prog. Bonif. '!W11 -> 0 | M8: =+'24-01-010 Ind. Prog. Bonif. '!X11 -> 0 | N8: =+'24-01-010 Ind. Prog. Bonif. '!Y11 -> 0 | ... Y8: =+'24-01-010 Ind. Prog. Bonif. '!AJ11 -> 0
A9: ANTOFAGASTA | B9: =+'24-01-010 Ind. Prog. Bonif. '!J15 -> 0 | C9: =+'24-01-010 Ind. Prog. Bonif. '!K15 -> 0 | D9: =+'24-01-010 Ind. Prog. Bonif. '!M15 -> 0 | E9: =+'24-01-010 Ind. Prog. Bonif. '!N15 -> 0 | F9: =+'24-01-010 Ind. Prog. Bonif. '!O15 -> 0 | G9: =+'24-01-010 Ind. Prog. Bonif. '!R15 -> 0 | H9: =+'24-01-010 Ind. Prog. Bonif. '!S15 -> 0 | I9: =+'24-01-010 Ind. Prog. Bonif. '!T15 -> 0 | J9: =+'24-01-010 Ind. Prog. Bonif. '!U15 -> 0 | K9: =+'24-01-010 Ind. Prog. Bonif. '!V15 -> 0 | L9: =+'24-01-010 Ind. Prog. Bonif. '!W15 -> 0 | M9: =+'24-01-010 Ind. Prog. Bonif. '!X15 -> 0 | N9: =+'24-01-010 Ind. Prog. Bonif. '!Y15 -> 0 | ... Y9: =+'24-01-010 Ind. Prog. Bonif. '!AJ15 -> 0
A10: ATACAMA | B10: =+'24-01-010 Ind. Prog. Bonif. '!J19 -> 0 | C10: =+'24-01-010 Ind. Prog. Bonif. '!K19 -> 0 | D10: =+'24-01-010 Ind. Prog. Bonif. '!M19 -> 0 | E10: =+'24-01-010 Ind. Prog. Bonif. '!N19 -> 0 | F10: =+'24-01-010 Ind. Prog. Bonif. '!O19 -> 0 | G10: =+'24-01-010 Ind. Prog. Bonif. '!R19 -> 0 | H10: =+'24-01-010 Ind. Prog. Bonif. '!S19 -> 0 | I10: =+'24-01-010 Ind. Prog. Bonif. '!T19 -> 0 | J10: =+'24-01-010 Ind. Prog. Bonif. '!U19 -> 0 | K10: =+'24-01-010 Ind. Prog. Bonif. '!V19 -> 0 | L10: =+'24-01-010 Ind. Prog. Bonif. '!W19 -> 0 | M10: =+'24-01-010 Ind. Prog. Bonif. '!X19 -> 0 | N10: =+'24-01-010 Ind. Prog. Bonif. '!Y19 -> 0 | ... Y10: =+'24-01-010 Ind. Prog. Bonif. '!AJ19 -> 0
A11: COQUIMBO | B11: =+'24-01-010 Ind. Prog. Bonif. '!J23 -> 0 | C11: =+'24-01-010 Ind. Prog. Bonif. '!K23 -> 0 | D11: =+'24-01-010 Ind. Prog. Bonif. '!M23 -> 0 | E11: =+'24-01-010 Ind. Prog. Bonif. '!N23 -> 0 | F11: =+'24-01-010 Ind. Prog. Bonif. '!O23 -> 0 | G11: =+'24-01-010 Ind. Prog. Bonif. '!R23 -> 0 | H11: =+'24-01-010 Ind. Prog. Bonif. '!S23 -> 0 | I11: =+'24-01-010 Ind. Prog. Bonif. '!T23 -> 0 | J11: =+'24-01-010 Ind. Prog. Bonif. '!U23 -> 0 | K11: =+'24-01-010 Ind. Prog. Bonif. '!V23 -> 0 | L11: =+'24-01-010 Ind. Prog. Bonif. '!W23 -> 0 | M11: =+'24-01-010 Ind. Prog. Bonif. '!X23 -> 0 | N11: =+'24-01-010 Ind. Prog. Bonif. '!Y23 -> 0 | ... Y11: =+'24-01-010 Ind. Prog. Bonif. '!AJ23 -> 0
A12: VALPARAÍSO | B12: =+'24-01-010 Ind. Prog. Bonif. '!J27 -> 300000 | C12: =+'24-01-010 Ind. Prog. Bonif. '!K27 -> 290051 | D12: =+'24-01-010 Ind. Prog. Bonif. '!M27 -> 0 | E12: =+'24-01-010 Ind. Prog. Bonif. '!N27 -> 0 | F12: =+'24-01-010 Ind. Prog. Bonif. '!O27 -> 0 | G12: =+'24-01-010 Ind. Prog. Bonif. '!R27 -> 0 | H12: =+'24-01-010 Ind. Prog. Bonif. '!S27 -> 0 | I12: =+'24-01-010 Ind. Prog. Bonif. '!T27 -> 0 | J12: =+'24-01-010 Ind. Prog. Bonif. '!U27 -> 0 | K12: =+'24-01-010 Ind. Prog. Bonif. '!V27 -> 0 | L12: =+'24-01-010 Ind. Prog. Bonif. '!W27 -> 199920 | M12: =+'24-01-010 Ind. Prog. Bonif. '!X27 -> 0 | N12: =+'24-01-010 Ind. Prog. Bonif. '!Y27 -> 199920 | ... Y12: =+'24-01-010 Ind. Prog. Bonif. '!AJ27 -> 5.2184005e-06
A13: LIBERTADOR B. O HIGGINS | B13: =+'24-01-010 Ind. Prog. Bonif. '!J31 -> 0 | C13: =+'24-01-010 Ind. Prog. Bonif. '!K31 -> 0 | D13: =+'24-01-010 Ind. Prog. Bonif. '!M31 -> 0 | E13: =+'24-01-010 Ind. Prog. Bonif. '!N31 -> 0 | F13: =+'24-01-010 Ind. Prog. Bonif. '!O31 -> 0 | G13: =+'24-01-010 Ind. Prog. Bonif. '!R31 -> 0 | H13: =+'24-01-010 Ind. Prog. Bonif. '!S31 -> 0 | I13: =+'24-01-010 Ind. Prog. Bonif. '!T31 -> 0 | J13: =+'24-01-010 Ind. Prog. Bonif. '!U31 -> 0 | K13: =+'24-01-010 Ind. Prog. Bonif. '!V31 -> 0 | L13: =+'24-01-010 Ind. Prog. Bonif. '!W31 -> 0 | M13: =+'24-01-010 Ind. Prog. Bonif. '!X31 -> 0 | N13: =+'24-01-010 Ind. Prog. Bonif. '!Y31 -> 0 | ... Y13: =+'24-01-010 Ind. Prog. Bonif. '!AJ31 -> 0
A14: MAULE | B14: =+'24-01-010 Ind. Prog. Bonif. '!J35 -> 0 | C14: =+'24-01-010 Ind. Prog. Bonif. '!K35 -> 0 | D14: =+'24-01-010 Ind. Prog. Bonif. '!M35 -> 0 | E14: =+'24-01-010 Ind. Prog. Bonif. '!N35 -> 0 | F14: =+'24-01-010 Ind. Prog. Bonif. '!O35 -> 0 | G14: =+'24-01-010 Ind. Prog. Bonif. '!R35 -> 0 | H14: =+'24-01-010 Ind. Prog. Bonif. '!S35 -> 0 | I14: =+'24-01-010 Ind. Prog. Bonif. '!T35 -> 0 | J14: =+'24-01-010 Ind. Prog. Bonif. '!U35 -> 0 | K14: =+'24-01-010 Ind. Prog. Bonif. '!V35 -> 0 | L14: =+'24-01-010 Ind. Prog. Bonif. '!W35 -> 0 | M14: =+'24-01-010 Ind. Prog. Bonif. '!X35 -> 0 | N14: =+'24-01-010 Ind. Prog. Bonif. '!Y35 -> 0 | ... Y14: =+'24-01-010 Ind. Prog. Bonif. '!AJ35 -> 0
A15: BIOBÍO | B15: =+'24-01-010 Ind. Prog. Bonif. '!J39 -> 0 | C15: =+'24-01-010 Ind. Prog. Bonif. '!K39 -> 0 | D15: =+'24-01-010 Ind. Prog. Bonif. '!M39 -> 0 | E15: =+'24-01-010 Ind. Prog. Bonif. '!N39 -> 0 | F15: =+'24-01-010 Ind. Prog. Bonif. '!O39 -> 0 | G15: =+'24-01-010 Ind. Prog. Bonif. '!R39 -> 0 | H15: =+'24-01-010 Ind. Prog. Bonif. '!S39 -> 0 | I15: =+'24-01-010 Ind. Prog. Bonif. '!T39 -> 0 | J15: =+'24-01-010 Ind. Prog. Bonif. '!U39 -> 0 | K15: =+'24-01-010 Ind. Prog. Bonif. '!V39 -> 0 | L15: =+'24-01-010 Ind. Prog. Bonif. '!W39 -> 0 | M15: =+'24-01-010 Ind. Prog. Bonif. '!X39 -> 0 | N15: =+'24-01-010 Ind. Prog. Bonif. '!Y39 -> 0 | ... Y15: =+'24-01-010 Ind. Prog. Bonif. '!AJ39 -> 0
A16: ARAUCANÍA | B16: =+'24-01-010 Ind. Prog. Bonif. '!J43 -> 0 | C16: =+'24-01-010 Ind. Prog. Bonif. '!K43 -> 0 | D16: =+'24-01-010 Ind. Prog. Bonif. '!M43 -> 0 | E16: =+'24-01-010 Ind. Prog. Bonif. '!N43 -> 0 | F16: =+'24-01-010 Ind. Prog. Bonif. '!O43 -> 0 | G16: =+'24-01-010 Ind. Prog. Bonif. '!R43 -> 0 | H16: =+'24-01-010 Ind. Prog. Bonif. '!S43 -> 0 | I16: =+'24-01-010 Ind. Prog. Bonif. '!T43 -> 0 | J16: =+'24-01-010 Ind. Prog. Bonif. '!U43 -> 0 | K16: =+'24-01-010 Ind. Prog. Bonif. '!V43 -> 0 | L16: =+'24-01-010 Ind. Prog. Bonif. '!W43 -> 0 | M16: =+'24-01-010 Ind. Prog. Bonif. '!X43 -> 0 | N16: =+'24-01-010 Ind. Prog. Bonif. '!Y43 -> 0 | ... Y16: =+'24-01-010 Ind. Prog. Bonif. '!AJ43 -> 0
A17: LOS LAGOS | B17: =+'24-01-010 Ind. Prog. Bonif. '!J47 -> 0 | C17: =+'24-01-010 Ind. Prog. Bonif. '!K47 -> 0 | D17: =+'24-01-010 Ind. Prog. Bonif. '!M47 -> 0 | E17: =+'24-01-010 Ind. Prog. Bonif. '!N47 -> 0 | F17: =+'24-01-010 Ind. Prog. Bonif. '!O47 -> 0 | G17: =+'24-01-010 Ind. Prog. Bonif. '!R47 -> 0 | H17: =+'24-01-010 Ind. Prog. Bonif. '!S47 -> 0 | I17: =+'24-01-010 Ind. Prog. Bonif. '!T47 -> 0 | J17: =+'24-01-010 Ind. Prog. Bonif. '!U47 -> 0 | K17: =+'24-01-010 Ind. Prog. Bonif. '!V47 -> 0 | L17: =+'24-01-010 Ind. Prog. Bonif. '!W47 -> 0 | M17: =+'24-01-010 Ind. Prog. Bonif. '!X47 -> 0 | N17: =+'24-01-010 Ind. Prog. Bonif. '!Y47 -> 0 | ... X17: =+'24-01-010 Ind. Prog. Bonif. '!AI47 -> 0 | Y17: =+'24-01-010 Ind. Prog. Bonif. '!AJ44 -> 0
A18: AYSÉN | B18: =+'24-01-010 Ind. Prog. Bonif. '!J51 -> 0 | C18: =+'24-01-010 Ind. Prog. Bonif. '!K51 -> 0 | D18: =+'24-01-010 Ind. Prog. Bonif. '!M51 -> 0 | E18: =+'24-01-010 Ind. Prog. Bonif. '!N51 -> 0 | F18: =+'24-01-010 Ind. Prog. Bonif. '!O51 -> 0 | G18: =+'24-01-010 Ind. Prog. Bonif. '!R51 -> 0 | H18: =+'24-01-010 Ind. Prog. Bonif. '!S51 -> 0 | I18: =+'24-01-010 Ind. Prog. Bonif. '!T51 -> 0 | J18: =+'24-01-010 Ind. Prog. Bonif. '!U51 -> 0 | K18: =+'24-01-010 Ind. Prog. Bonif. '!V51 -> 0 | L18: =+'24-01-010 Ind. Prog. Bonif. '!W51 -> 0 | M18: =+'24-01-010 Ind. Prog. Bonif. '!X51 -> 0 | N18: =+'24-01-010 Ind. Prog. Bonif. '!Y51 -> 0 | ... Y18: =+'24-01-010 Ind. Prog. Bonif. '!AJ51 -> 0
A19: MAGALLANES | B19: =+'24-01-010 Ind. Prog. Bonif. '!J55 -> 0 | C19: =+'24-01-010 Ind. Prog. Bonif. '!K55 -> 0 | D19: =+'24-01-010 Ind. Prog. Bonif. '!M55 -> 0 | E19: =+'24-01-010 Ind. Prog. Bonif. '!N55 -> 0 | F19: =+'24-01-010 Ind. Prog. Bonif. '!O55 -> 0 | G19: =+'24-01-010 Ind. Prog. Bonif. '!R55 -> 0 | H19: =+'24-01-010 Ind. Prog. Bonif. '!S55 -> 0 | I19: =+'24-01-010 Ind. Prog. Bonif. '!T55 -> 0 | J19: =+'24-01-010 Ind. Prog. Bonif. '!U55 -> 0 | K19: =+'24-01-010 Ind. Prog. Bonif. '!V55 -> 0 | L19: =+'24-01-010 Ind. Prog. Bonif. '!W55 -> 0 | M19: =+'24-01-010 Ind. Prog. Bonif. '!X55 -> 0 | N19: =+'24-01-010 Ind. Prog. Bonif. '!Y55 -> 0 | ... Y19: =+'24-01-010 Ind. Prog. Bonif. '!AJ55 -> 0
A20: LOS RÍOS | B20: =+'24-01-010 Ind. Prog. Bonif. '!J59 -> 0 | C20: =+'24-01-010 Ind. Prog. Bonif. '!K59 -> 0 | D20: =+'24-01-010 Ind. Prog. Bonif. '!M59 -> 0 | E20: =+'24-01-010 Ind. Prog. Bonif. '!N59 -> 0 | F20: =+'24-01-010 Ind. Prog. Bonif. '!O59 -> 0 | G20: =+'24-01-010 Ind. Prog. Bonif. '!R59 -> 0 | H20: =+'24-01-010 Ind. Prog. Bonif. '!S59 -> 0 | I20: =+'24-01-010 Ind. Prog. Bonif. '!T59 -> 0 | J20: =+'24-01-010 Ind. Prog. Bonif. '!U59 -> 0 | K20: =+'24-01-010 Ind. Prog. Bonif. '!V59 -> 0 | L20: =+'24-01-010 Ind. Prog. Bonif. '!W59 -> 0 | M20: =+'24-01-010 Ind. Prog. Bonif. '!X59 -> 0 | N20: =+'24-01-010 Ind. Prog. Bonif. '!Y59 -> 0 | ... Y20: =+'24-01-010 Ind. Prog. Bonif. '!AJ59 -> 0
A21: ARICA Y PARINACOTA | B21: =+'24-01-010 Ind. Prog. Bonif. '!J63 -> 0 | C21: =+'24-01-010 Ind. Prog. Bonif. '!K63 -> 0 | D21: =+'24-01-010 Ind. Prog. Bonif. '!M63 -> 0 | E21: =+'24-01-010 Ind. Prog. Bonif. '!N63 -> 0 | F21: =+'24-01-010 Ind. Prog. Bonif. '!O63 -> 0 | G21: =+'24-01-010 Ind. Prog. Bonif. '!R63 -> 0 | H21: =+'24-01-010 Ind. Prog. Bonif. '!S63 -> 0 | I21: =+'24-01-010 Ind. Prog. Bonif. '!T63 -> 0 | J21: =+'24-01-010 Ind. Prog. Bonif. '!U63 -> 0 | K21: =+'24-01-010 Ind. Prog. Bonif. '!V63 -> 0 | L21: =+'24-01-010 Ind. Prog. Bonif. '!W63 -> 0 | M21: =+'24-01-010 Ind. Prog. Bonif. '!X63 -> 0 | N21: =+'24-01-010 Ind. Prog. Bonif. '!Y63 -> 0 | ... Y21: =+'24-01-010 Ind. Prog. Bonif. '!AJ63 -> 0
A22: ÑUBLE | B22: =+'24-01-010 Ind. Prog. Bonif. '!J67 -> 0 | C22: =+'24-01-010 Ind. Prog. Bonif. '!K67 -> 0 | D22: =+'24-01-010 Ind. Prog. Bonif. '!M64 -> 0 | E22: =+'24-01-010 Ind. Prog. Bonif. '!N64 -> 0 | F22: =+'24-01-010 Ind. Prog. Bonif. '!O64 -> 0 | G22: =+'24-01-010 Ind. Prog. Bonif. '!R64 -> 0 | H22: =+'24-01-010 Ind. Prog. Bonif. '!S64 -> 0 | I22: =+'24-01-010 Ind. Prog. Bonif. '!T64 -> 0 | J22: =+'24-01-010 Ind. Prog. Bonif. '!U67 -> 0 | K22: =+'24-01-010 Ind. Prog. Bonif. '!V64 -> 0 | L22: =+'24-01-010 Ind. Prog. Bonif. '!W64 -> 0 | M22: =+'24-01-010 Ind. Prog. Bonif. '!X64 -> 0 | N22: =+'24-01-010 Ind. Prog. Bonif. '!Y67 -> 0 | O22: =+'24-01-010 Ind. Prog. Bonif. '!Z64 -> 0 | P22: =+'24-01-010 Ind. Prog. Bonif. '!AA64 -> 0 | Q22: =+'24-01-010 Ind. Prog. Bonif. '!AB64 -> 0 | R22: =+'24-01-010 Ind. Prog. Bonif. '!AC67 -> 0 | S22: =+'24-01-010 Ind. Prog. Bonif. '!AD64 -> 0 | T22: =+'24-01-010 Ind. Prog. Bonif. '!AE64 -> 0 | U22: =+'24-01-010 Ind. Prog. Bonif. '!AF64 -> 0 | V22: =+'24-01-010 Ind. Prog. Bonif. '!AG67 -> 0 | W22: =+'24-01-010 Ind. Prog. Bonif. '!AH67 -> 0 | X22: =+'24-01-010 Ind. Prog. Bonif. '!AI67 -> 0 | Y22: =+'24-01-010 Ind. Prog. Bonif. '!AJ67 -> 0
A23: METROPOLITANA | B23: =+'24-01-010 Ind. Prog. Bonif. '!J71 -> 0 | C23: =+'24-01-010 Ind. Prog. Bonif. '!K71 -> 0 | D23: =+'24-01-010 Ind. Prog. Bonif. '!M71 -> 0 | E23: =+'24-01-010 Ind. Prog. Bonif. '!N71 -> 0 | F23: =+'24-01-010 Ind. Prog. Bonif. '!O71 -> 0 | G23: =+'24-01-010 Ind. Prog. Bonif. '!R71 -> 0 | H23: =+'24-01-010 Ind. Prog. Bonif. '!S71 -> 0 | I23: =+'24-01-010 Ind. Prog. Bonif. '!T71 -> 0 | J23: =+'24-01-010 Ind. Prog. Bonif. '!U71 -> 0 | K23: =+'24-01-010 Ind. Prog. Bonif. '!V71 -> 0 | L23: =+'24-01-010 Ind. Prog. Bonif. '!W71 -> 0 | M23: =+'24-01-010 Ind. Prog. Bonif. '!X71 -> 0 | N23: =+'24-01-010 Ind. Prog. Bonif. '!Y71 -> 0 | ... Y23: =+'24-01-010 Ind. Prog. Bonif. '!AJ71 -> 0
A24: NIVEL CENTRAL | B24: =+'24-01-010 Ind. Prog. Bonif. '!J76 -> 69066443000 | C24: =+'24-01-010 Ind. Prog. Bonif. '!K76 -> 68967555909 | D24: =+'24-01-010 Ind. Prog. Bonif. '!M76 -> 0 | E24: =+'24-01-010 Ind. Prog. Bonif. '!N76 -> 0 | F24: =+'24-01-010 Ind. Prog. Bonif. '!O76 -> 0 | G24: =+'24-01-010 Ind. Prog. Bonif. '!R76 -> 11590281 | H24: =+'24-01-010 Ind. Prog. Bonif. '!S76 -> 39124646 | I24: =+'24-01-010 Ind. Prog. Bonif. '!T76 -> 17107562 | J24: =+'24-01-010 Ind. Prog. Bonif. '!U76 -> 67822489 | K24: =+'24-01-010 Ind. Prog. Bonif. '!V76 -> 4121848219 | L24: =+'24-01-010 Ind. Prog. Bonif. '!W76 -> 4113336839 | M24: =+'24-01-010 Ind. Prog. Bonif. '!X76 -> 15990500051 | N24: =+'24-01-010 Ind. Prog. Bonif. '!Y76 -> 24225685109 | ... Y24: =+'24-01-010 Ind. Prog. Bonif. '!AJ76 -> 0.99999478
A25: ="TOTAL ASIG."&" "&$A$5 -> TOTAL ASIG. 24-01-010 "Programa Bonificación Ley N°20.595" | B25: =SUM(B8:B24) -> 69066743000 | C25: =SUM(C8:C24) -> 68967845960 | D25: =SUM(D8:D24) -> 0 | E25: =SUM(E8:E24) -> 0 | F25: =SUM(F8:F24) -> 0 | G25: =SUM(G8:G24) -> 11590281 | H25: =SUM(H8:H24) -> 39124646 | I25: =SUM(I8:I24) -> 17107562 | ... W25: =SUM(W8:W24) -> 55582357509 | X25: =+'24-01-010 Ind. Prog. Bonif. '!AI77 -> 1.7715989 | Y25: ='24-01-010 Ind. Prog. Bonif. '!AJ77 -> 1

Sheet 24-01-337 Ind. Bonos Art. 2
A1: PARTIDA 21-01-05 "INGRESO ÉTICO FAMILIAR Y SISTEMA CHILE SOLIDARIO"
A2: INFORME POR PROGRAMA Y REGIÓN
A3: EJECUCIÓN AL 30 SEPTIEMBRE DE 2026
A4: En pesos
A5: 24-01-337 "Bonos Art. 2 Transitorio, Ley N°19,949"
A6: Nº | B6: Código Proyecto | C6: REGION | D6: Fecha | E6: Nombre y Razón Social del Ejecutor | F6: Denominación del Programa- Convenio o Transferencia | G6: Modalidad de Asignación | H6: Vigencia del Convenio | J6: Presupuesto por región | K6: Monto del convenio | L6: Productos/y/o Actividades | M6: Beneficiarios | P6: Modalidad de Pago | Q6: Observaciones | R6: EJECUCION DEVENGADA | U6: 1er. Trimestre | V6: EJECUCION DEVENGADA | Y6: 2do. Trimestre | Z6: EJECUCION DEVENGADA | AC6: 3er. Trimestre | AD6: EJECUCION DEVENGADA | AG6: 4to. Trimestre | AH6: Total Anual | AI6: Porcentaje de Participación:
C7: Resolución o Decreto | H7: Inicio | I7: Término | M7: Cobertura | N7: Universo | O7: Tipo de Beneficiarios | R7: Enero | S7: Febrero | T7: Marzo | V7: Abril | W7: Mayo | X7: Junio | Z7: Julio | AA7: Agosto | AB7: Septiembre | AD7: Octubre | AE7: Noviembre | AF7: Diciembre | AI7: Ejecución | AJ7: Del Gasto
A8: TARAPACÁ
A9: 1 | U9: =SUM(R9:T9) -> 0 | Y9: =SUM(V9:X9) -> 0 | AC9: =SUM(Z9:AB9) -> 0 | AG9: =SUM(AD9:AF9) -> 0 | AH9: =SUM(U9,Y9,AC9,AG9) -> 0 | AI9: =IF(ISERROR(AH9/J9),0,AH9/J9) -> 0 | AJ9: =IF(ISERROR(AH9/$AH$75),"-",AH9/$AH$75) -> 0
A10: 2 | U10: =SUM(R10:T10) -> 0 | Y10: =SUM(V10:X10) -> 0 | AC10: =SUM(Z10:AB10) -> 0 | AG10: =SUM(AD10:AF10) -> 0 | AH10: =SUM(U10,Y10,AC10,AG10) -> 0 | AI10: =IF(ISERROR(AH10/J10),0,AH10/J10) -> 0 | AJ10: =IF(ISERROR(AH10/$AH$75),"-",AH10/$AH$75) -> 0
A11: TOTAL REGIÓN DE TARAPACÁ | J11: =SUM(J9:J10) -> 0 | K11: =SUM(K9:K10) -> 0 | M11: =SUM(M9:M10) -> 0 | N11: =SUM(N9:N10) -> 0 | O11: =SUM(O9:O10) -> 0 | R11: =SUM(R9:R10) -> 0 | S11: =SUM(S9:S10) -> 0 | T11: =SUM(T9:T10) -> 0 | U11: =SUM(U9:U10) -> 0 | V11: =SUM(V9:V10) -> 0 | W11: =SUM(W9:W10) -> 0 | X11: =SUM(X9:X10) -> 0 | Y11: =SUM(Y9:Y10) -> 0 | ... AH11: =SUM(AH9:AH10) -> 0 | AI11: =IF(ISERROR(AH11/J11),0,AH11/J11) -> 0 | AJ11: =IF(ISERROR(AH11/$AH$75),0,AH11/$AH$75) -> 0
A12: ANTOFAGASTA
A13: 1 | U13: =SUM(R13:T13) -> 0 | Y13: =SUM(V13:X13) -> 0 | AC13: =SUM(Z13:AB13) -> 0 | AG13: =SUM(AD13:AF13) -> 0 | AH13: =SUM(U13,Y13,AC13,AG13) -> 0 | AI13: =IF(ISERROR(AH13/J13),0,AH13/J13) -> 0 | AJ13: =IF(ISERROR(AH13/$AH$75),"-",AH13/$AH$75) -> 0
A14: 2 | U14: =SUM(R14:T14) -> 0 | Y14: =SUM(V14:X14) -> 0 | AC14: =SUM(Z14:AB14) -> 0 | AG14: =SUM(AD14:AF14) -> 0 | AH14: =SUM(U14,Y14,AC14,AG14) -> 0 | AI14: =IF(ISERROR(AH14/J14),0,AH14/J14) -> 0 | AJ14: =IF(ISERROR(AH14/$AH$75),"-",AH14/$AH$75) -> 0
A15: TOTAL REGIÓN DE ANTOFAGASTA | J15: =SUM(J13:J14) -> 0 | K15: =SUM(K13:K14) -> 0 | M15: =SUM(M13:M14) -> 0 | N15: =SUM(N13:N14) -> 0 | O15: =SUM(O13:O14) -> 0 | R15: =SUM(R13:R14) -> 0 | S15: =SUM(S13:S14) -> 0 | T15: =SUM(T13:T14) -> 0 | U15: =SUM(U13:U14) -> 0 | V15: =SUM(V13:V14) -> 0 | W15: =SUM(W13:W14) -> 0 | X15: =SUM(X13:X14) -> 0 | Y15: =SUM(Y13:Y14) -> 0 | ... AH15: =SUM(AH13:AH14) -> 0 | AI15: =IF(ISERROR(AH15/J15),0,AH15/J15) -> 0 | AJ15: =IF(ISERROR(AH15/$AH$75),0,AH15/$AH$75) -> 0
A16: ATACAMA
A17: 1 | U17: =SUM(R17:T17) -> 0 | Y17: =SUM(V17:X17) -> 0 | AC17: =SUM(Z17:AB17) -> 0 | AG17: =SUM(AD17:AF17) -> 0 | AH17: =SUM(U17,Y17,AC17,AG17) -> 0 | AI17: =IF(ISERROR(AH17/J17),0,AH17/J17) -> 0 | AJ17: =IF(ISERROR(AH17/$AH$75),"-",AH17/$AH$75) -> 0
A18: 2 | U18: =SUM(R18:T18) -> 0 | Y18: =SUM(V18:X18) -> 0 | AC18: =SUM(Z18:AB18) -> 0 | AG18: =SUM(AD18:AF18) -> 0 | AH18: =SUM(U18,Y18,AC18,AG18) -> 0 | AI18: =IF(ISERROR(AH18/J18),0,AH18/J18) -> 0 | AJ18: =IF(ISERROR(AH18/$AH$75),"-",AH18/$AH$75) -> 0
A19: TOTAL REGIÓN DE ATACAMA | J19: =SUM(J17:J18) -> 0 | K19: =SUM(K17:K18) -> 0 | M19: =SUM(M17:M18) -> 0 | N19: =SUM(N17:N18) -> 0 | O19: =SUM(O17:O18) -> 0 | R19: =SUM(R17:R18) -> 0 | S19: =SUM(S17:S18) -> 0 | T19: =SUM(T17:T18) -> 0 | U19: =SUM(U17:U18) -> 0 | V19: =SUM(V17:V18) -> 0 | W19: =SUM(W17:W18) -> 0 | X19: =SUM(X17:X18) -> 0 | Y19: =SUM(Y17:Y18) -> 0 | ... AH19: =SUM(AH17:AH18) -> 0 | AI19: =IF(ISERROR(AH19/J19),0,AH19/J19) -> 0 | AJ19: =IF(ISERROR(AH19/$AH$75),0,AH19/$AH$75) -> 0
A20: COQUIMBO
A21: 1 | U21: =SUM(R21:T21) -> 0 | Y21: =SUM(V21:X21) -> 0 | AC21: =SUM(Z21:AB21) -> 0 | AG21: =SUM(AD21:AF21) -> 0 | AH21: =SUM(U21,Y21,AC21,AG21) -> 0 | AI21: =IF(ISERROR(AH21/J21),0,AH21/J21) -> 0 | AJ21: =IF(ISERROR(AH21/$AH$75),"-",AH21/$AH$75) -> 0
A22: 2 | U22: =SUM(R22:T22) -> 0 | Y22: =SUM(V22:X22) -> 0 | AC22: =SUM(Z22:AB22) -> 0 | AG22: =SUM(AD22:AF22) -> 0 | AH22: =SUM(U22,Y22,AC22,AG22) -> 0 | AI22: =IF(ISERROR(AH22/J22),0,AH22/J22) -> 0 | AJ22: =IF(ISERROR(AH22/$AH$75),"-",AH22/$AH$75) -> 0
A23: TOTAL REGIÓN DE COQUIMBO | J23: =SUM(J21:J22) -> 0 | K23: =SUM(K21:K22) -> 0 | M23: =SUM(M21:M22) -> 0 | N23: =SUM(N21:N22) -> 0 | O23: =SUM(O21:O22) -> 0 | R23: =SUM(R21:R22) -> 0 | S23: =SUM(S21:S22) -> 0 | T23: =SUM(T21:T22) -> 0 | U23: =SUM(U21:U22) -> 0 | V23: =SUM(V21:V22) -> 0 | W23: =SUM(W21:W22) -> 0 | X23: =SUM(X21:X22) -> 0 | Y23: =SUM(Y21:Y22) -> 0 | ... AH23: =SUM(AH21:AH22) -> 0 | AI23: =IF(ISERROR(AH23/J23),0,AH23/J23) -> 0 | AJ23: =IF(ISERROR(AH23/$AH$75),0,AH23/$AH$75) -> 0
A24: VALPARAÍSO
A25: 1 | U25: =SUM(R25:T25) -> 0 | Y25: =SUM(V25:X25) -> 0 | AC25: =SUM(Z25:AB25) -> 0 | AE25: 0 | AF25: 0 | AG25: =SUM(AD25:AF25) -> 0 | AH25: =SUM(U25,Y25,AC25,AG25) -> 0 | AI25: =IF(ISERROR(AH25/J25),0,AH25/J25) -> 0 | AJ25: =IF(ISERROR(AH25/$AH$75),"-",AH25/$AH$75) -> 0
A26: 2 | U26: =SUM(R26:T26) -> 0 | Y26: =SUM(V26:X26) -> 0 | AC26: =SUM(Z26:AB26) -> 0 | AE26: 0 | AF26: 0 | AG26: =SUM(AD26:AF26) -> 0 | AH26: =SUM(U26,Y26,AC26,AG26) -> 0 | AI26: =IF(ISERROR(AH26/J26),0,AH26/J26) -> 0 | AJ26: =IF(ISERROR(AH26/$AH$75),"-",AH26/$AH$75) -> 0
A27: TOTAL REGIÓN DE VALPARAÍSO | J27: =SUM(J25:J26) -> 0 | K27: =SUM(K25:K26) -> 0 | M27: =SUM(M25:M26) -> 0 | N27: =SUM(N25:N26) -> 0 | O27: =SUM(O25:O26) -> 0 | R27: =SUM(R25:R26) -> 0 | S27: =SUM(S25:S26) -> 0 | T27: =SUM(T25:T26) -> 0 | U27: =SUM(U25:U26) -> 0 | V27: =SUM(V25:V26) -> 0 | W27: =SUM(W25:W26) -> 0 | X27: =SUM(X25:X26) -> 0 | Y27: =SUM(Y25:Y26) -> 0 | ... AH27: =SUM(AH25:AH26) -> 0 | AI27: =IF(ISERROR(AH27/J27),0,AH27/J27) -> 0 | AJ27: =IF(ISERROR(AH27/$AH$75),0,AH27/$AH$75) -> 0
A28: LIBERTADOR B. O HIGGINS
A29: 1 | U29: =SUM(R29:T29) -> 0 | Y29: =SUM(V29:X29) -> 0 | AC29: =SUM(Z29:AB29) -> 0 | AG29: =SUM(AD29:AF29) -> 0 | AH29: =SUM(U29,Y29,AC29,AG29) -> 0 | AI29: =IF(ISERROR(AH29/J29),0,AH29/J29) -> 0 | AJ29: =IF(ISERROR(AH29/$AH$75),"-",AH29/$AH$75) -> 0
A30: 2 | U30: =SUM(R30:T30) -> 0 | Y30: =SUM(V30:X30) -> 0 | AC30: =SUM(Z30:AB30) -> 0 | AG30: =SUM(AD30:AF30) -> 0 | AH30: =SUM(U30,Y30,AC30,AG30) -> 0 | AI30: =IF(ISERROR(AH30/J30),0,AH30/J30) -> 0 | AJ30: =IF(ISERROR(AH30/$AH$75),"-",AH30/$AH$75) -> 0
A31: TOTAL REGIÓN DEL LIBERTADOR GENERAL BERNARDO O'HIGGINS | J31: =SUM(J29:J30) -> 0 | K31: =SUM(K29:K30) -> 0 | M31: =SUM(M29:M30) -> 0 | N31: =SUM(N29:N30) -> 0 | O31: =SUM(O29:O30) -> 0 | R31: =SUM(R29:R30) -> 0 | S31: =SUM(S29:S30) -> 0 | T31: =SUM(T29:T30) -> 0 | U31: =SUM(U29:U30) -> 0 | V31: =SUM(V29:V30) -> 0 | W31: =SUM(W29:W30) -> 0 | X31: =SUM(X29:X30) -> 0 | Y31: =SUM(Y29:Y30) -> 0 | ... AH31: =SUM(AH29:AH30) -> 0 | AI31: =IF(ISERROR(AH31/J31),0,AH31/J31) -> 0 | AJ31: =IF(ISERROR(AH31/$AH$75),0,AH31/$AH$75) -> 0
A32: MAULE
A33: 1 | U33: =SUM(R33:T33) -> 0 | Y33: =SUM(V33:X33) -> 0 | AC33: =SUM(Z33:AB33) -> 0 | AG33: =SUM(AD33:AF33) -> 0 | AH33: =SUM(U33,Y33,AC33,AG33) -> 0 | AI33: =IF(ISERROR(AH33/J33),0,AH33/J33) -> 0 | AJ33: =IF(ISERROR(AH33/$AH$75),"-",AH33/$AH$75) -> 0
A34: 2 | U34: =SUM(R34:T34) -> 0 | Y34: =SUM(V34:X34) -> 0 | AC34: =SUM(Z34:AB34) -> 0 | AG34: =SUM(AD34:AF34) -> 0 | AH34: =SUM(U34,Y34,AC34,AG34) -> 0 | AI34: =IF(ISERROR(AH34/J34),0,AH34/J34) -> 0 | AJ34: =IF(ISERROR(AH34/$AH$75),"-",AH34/$AH$75) -> 0
A35: TOTAL REGIÓN DEL MAULE | J35: =SUM(J33:J34) -> 0 | K35: =SUM(K33:K34) -> 0 | M35: =SUM(M33:M34) -> 0 | N35: =SUM(N33:N34) -> 0 | O35: =SUM(O33:O34) -> 0 | R35: =SUM(R33:R34) -> 0 | S35: =SUM(S33:S34) -> 0 | T35: =SUM(T33:T34) -> 0 | U35: =SUM(U33:U34) -> 0 | V35: =SUM(V33:V34) -> 0 | W35: =SUM(W33:W34) -> 0 | X35: =SUM(X33:X34) -> 0 | Y35: =SUM(Y33:Y34) -> 0 | ... AH35: =SUM(AH33:AH34) -> 0 | AI35: =IF(ISERROR(AH35/J35),0,AH35/J35) -> 0 | AJ35: =IF(ISERROR(AH35/$AH$75),0,AH35/$AH$75) -> 0
A36: BIOBÍO
A37: 1 | U37: =SUM(R37:T37) -> 0 | Y37: =SUM(V37:X37) -> 0 | AC37: =SUM(Z37:AB37) -> 0 | AG37: =SUM(AD37:AF37) -> 0 | AH37: =SUM(U37,Y37,AC37,AG37) -> 0 | AI37: =IF(ISERROR(AH37/J37),0,AH37/J37) -> 0 | AJ37: =IF(ISERROR(AH37/$AH$75),"-",AH37/$AH$75) -> 0
A38: 2 | U38: =SUM(R38:T38) -> 0 | Y38: =SUM(V38:X38) -> 0 | AC38: =SUM(Z38:AB38) -> 0 | AG38: =SUM(AD38:AF38) -> 0 | AH38: =SUM(U38,Y38,AC38,AG38) -> 0 | AI38: =IF(ISERROR(AH38/J38),0,AH38/J38) -> 0 | AJ38: =IF(ISERROR(AH38/$AH$75),"-",AH38/$AH$75) -> 0
A39: TOTAL REGIÓN DEL BIOBÍO | J39: =SUM(J37:J38) -> 0 | K39: =SUM(K37:K38) -> 0 | M39: =SUM(M37:M38) -> 0 | N39: =SUM(N37:N38) -> 0 | O39: =SUM(O37:O38) -> 0 | R39: =SUM(R37:R38) -> 0 | S39: =SUM(S37:S38) -> 0 | T39: =SUM(T37:T38) -> 0 | U39: =SUM(U37:U38) -> 0 | V39: =SUM(V37:V38) -> 0 | W39: =SUM(W37:W38) -> 0 | X39: =SUM(X37:X38) -> 0 | Y39: =SUM(Y37:Y38) -> 0 | ... AH39: =SUM(AH37:AH38) -> 0 | AI39: =IF(ISERROR(AH39/J39),0,AH39/J39) -> 0 | AJ39: =IF(ISERROR(AH39/$AH$75),0,AH39/$AH$75) -> 0
A40: ARAUCANÍA
...

Sheet 24-01-337 Res. Bonos Art. 2
A1: PARTIDA 21-01-05 "INGRESO ÉTICO FAMILIAR Y SISTEMA CHILE SOLIDARIO"
A2: INFORME POR PROGRAMA Y REGIÓN
A3: EJECUCIÓN AL 30 SEPTIEMBRE DE 2026
A4: En pesos
A5: 24-01-337 "Bonos Art. 2 Transitorio, Ley N°19,949"
A6: REGION | B6: Presupuesto por región | C6: Total Convenios | D6: Beneficiarios | G6: EJECUCION DEVENGADA | J6: 1er. Trimestre | K6: EJECUCION DEVENGADA | N6: 2do. Trimestre | O6: EJECUCION DEVENGADA | R6: 3er. Trimestre | S6: EJECUCION DEVENGADA | V6: 4to. Trimestre | W6: Total Anual | X6: Porcentaje de:
D7: Cobertura | E7: Universo | F7: Tipo de Beneficiarios | G7: Enero | H7: Febrero | I7: Marzo | K7: Abril | L7: Mayo | M7: Junio | O7: Julio | P7: Agosto | Q7: Septiembre | S7: Octubre | T7: Noviembre | U7: Diciembre | X7: Ejecución | Y7: Participación del Gasto
A8: TARAPACÁ | B8: =+'24-01-337 Ind. Bonos Art. 2'!J11 -> 0 | C8: =+'24-01-337 Ind. Bonos Art. 2'!K11 -> 0 | D8: =+'24-01-337 Ind. Bonos Art. 2'!M11 -> 0 | E8: =+'24-01-337 Ind. Bonos Art. 2'!N11 -> 0 | F8: =+'24-01-337 Ind. Bonos Art. 2'!O11 -> 0 | G8: =+'24-01-337 Ind. Bonos Art. 2'!R11 -> 0 | H8: =+'24-01-337 Ind. Bonos Art. 2'!S11 -> 0 | I8: =+'24-01-337 Ind. Bonos Art. 2'!T11 -> 0 | J8: =+'24-01-337 Ind. Bonos Art. 2'!U11 -> 0 | K8: =+'24-01-337 Ind. Bonos Art. 2'!V11 -> 0 | L8: =+'24-01-337 Ind. Bonos Art. 2'!W11 -> 0 | M8: =+'24-01-337 Ind. Bonos Art. 2'!X11 -> 0 | N8: =+'24-01-337 Ind. Bonos Art. 2'!Y11 -> 0 | ... Y8: =+'24-01-337 Ind. Bonos Art. 2'!AJ11 -> 0
A9: ANTOFAGASTA | B9: =+'24-01-337 Ind. Bonos Art. 2'!J15 -> 0 | C9: =+'24-01-337 Ind. Bonos Art. 2'!K15 -> 0 | D9: =+'24-01-337 Ind. Bonos Art. 2'!M15 -> 0 | E9: =+'24-01-337 Ind. Bonos Art. 2'!N15 -> 0 | F9: =+'24-01-337 Ind. Bonos Art. 2'!O15 -> 0 | G9: =+'24-01-337 Ind. Bonos Art. 2'!R15 -> 0 | H9: =+'24-01-337 Ind. Bonos Art. 2'!S15 -> 0 | I9: =+'24-01-337 Ind. Bonos Art. 2'!T15 -> 0 | J9: =+'24-01-337 Ind. Bonos Art. 2'!U15 -> 0 | K9: =+'24-01-337 Ind. Bonos Art. 2'!V15 -> 0 | L9: =+'24-01-337 Ind. Bonos Art. 2'!W15 -> 0 | M9: =+'24-01-337 Ind. Bonos Art. 2'!X15 -> 0 | N9: =+'24-01-337 Ind. Bonos Art. 2'!Y15 -> 0 | ... Y9: =+'24-01-337 Ind. Bonos Art. 2'!AJ15 -> 0
A10: ATACAMA | B10: =+'24-01-337 Ind. Bonos Art. 2'!J19 -> 0 | C10: =+'24-01-337 Ind. Bonos Art. 2'!K19 -> 0 | D10: =+'24-01-337 Ind. Bonos Art. 2'!M19 -> 0 | E10: =+'24-01-337 Ind. Bonos Art. 2'!N19 -> 0 | F10: =+'24-01-337 Ind. Bonos Art. 2'!O19 -> 0 | G10: =+'24-01-337 Ind. Bonos Art. 2'!R19 -> 0 | H10: =+'24-01-337 Ind. Bonos Art. 2'!S19 -> 0 | I10: =+'24-01-337 Ind. Bonos Art. 2'!T19 -> 0 | J10: =+'24-01-337 Ind. Bonos Art. 2'!U19 -> 0 | K10: =+'24-01-337 Ind. Bonos Art. 2'!V19 -> 0 | L10: =+'24-01-337 Ind. Bonos Art. 2'!W19 -> 0 | M10: =+'24-01-337 Ind. Bonos Art. 2'!X19 -> 0 | N10: =+'24-01-337 Ind. Bonos Art. 2'!Y19 -> 0 | ... Y10: =+'24-01-337 Ind. Bonos Art. 2'!AJ19 -> 0
A11: COQUIMBO | B11: =+'24-01-337 Ind. Bonos Art. 2'!J23 -> 0 | C11: =+'24-01-337 Ind. Bonos Art. 2'!K23 -> 0 | D11: =+'24-01-337 Ind. Bonos Art. 2'!M23 -> 0 | E11: =+'24-01-337 Ind. Bonos Art. 2'!N23 -> 0 | F11: =+'24-01-337 Ind. Bonos Art. 2'!O23 -> 0 | G11: =+'24-01-337 Ind. Bonos Art. 2'!R23 -> 0 | H11: =+'24-01-337 Ind. Bonos Art. 2'!S23 -> 0 | I11: =+'24-01-337 Ind. Bonos Art. 2'!T23 -> 0 | J11: =+'24-01-337 Ind. Bonos Art. 2'!U23 -> 0 | K11: =+'24-01-337 Ind. Bonos Art. 2'!V23 -> 0 | L11: =+'24-01-337 Ind. Bonos Art. 2'!W23 -> 0 | M11: =+'24-01-337 Ind. Bonos Art. 2'!X23 -> 0 | N11: =+'24-01-337 Ind. Bonos Art. 2'!Y23 -> 0 | ... Y11: =+'24-01-337 Ind. Bonos Art. 2'!AJ23 -> 0
A12: VALPARAÍSO | B12: =+'24-01-337 Ind. Bonos Art. 2'!J27 -> 0 | C12: =+'24-01-337 Ind. Bonos Art. 2'!K27 -> 0 | D12: =+'24-01-337 Ind. Bonos Art. 2'!M27 -> 0 | E12: =+'24-01-337 Ind. Bonos Art. 2'!N27 -> 0 | F12: =+'24-01-337 Ind. Bonos Art. 2'!O27 -> 0 | G12: =+'24-01-337 Ind. Bonos Art. 2'!R27 -> 0 | H12: =+'24-01-337 Ind. Bonos Art. 2'!S27 -> 0 | I12: =+'24-01-337 Ind. Bonos Art. 2'!T27 -> 0 | J12: =+'24-01-337 Ind. Bonos Art. 2'!U27 -> 0 | K12: =+'24-01-337 Ind. Bonos Art. 2'!V27 -> 0 | L12: =+'24-01-337 Ind. Bonos Art. 2'!W27 -> 0 | M12: =+'24-01-337 Ind. Bonos Art. 2'!X27 -> 0 | N12: =+'24-01-337 Ind. Bonos Art. 2'!Y27 -> 0 | ... Y12: =+'24-01-337 Ind. Bonos Art. 2'!AJ27 -> 0
A13: LIBERTADOR B. O HIGGINS | B13: =+'24-01-337 Ind. Bonos Art. 2'!J31 -> 0 | C13: =+'24-01-337 Ind. Bonos Art. 2'!K31 -> 0 | D13: =+'24-01-337 Ind. Bonos Art. 2'!M31 -> 0 | E13: =+'24-01-337 Ind. Bonos Art. 2'!N31 -> 0 | F13: =+'24-01-337 Ind. Bonos Art. 2'!O31 -> 0 | G13: =+'24-01-337 Ind. Bonos Art. 2'!R31 -> 0 | H13: =+'24-01-337 Ind. Bonos Art. 2'!S31 -> 0 | I13: =+'24-01-337 Ind. Bonos Art. 2'!T31 -> 0 | J13: =+'24-01-337 Ind. Bonos Art. 2'!U31 -> 0 | K13: =+'24-01-337 Ind. Bonos Art. 2'!V31 -> 0 | L13: =+'24-01-337 Ind. Bonos Art. 2'!W31 -> 0 | M13: =+'24-01-337 Ind. Bonos Art. 2'!X31 -> 0 | N13: =+'24-01-337 Ind. Bonos Art. 2'!Y31 -> 0 | ... Y13: =+'24-01-337 Ind. Bonos Art. 2'!AJ31 -> 0
A14: MAULE | B14: =+'24-01-337 Ind. Bonos Art. 2'!J35 -> 0 | C14: =+'24-01-337 Ind. Bonos Art. 2'!K35 -> 0 | D14: =+'24-01-337 Ind. Bonos Art. 2'!M35 -> 0 | E14: =+'24-01-337 Ind. Bonos Art. 2'!N35 -> 0 | F14: =+'24-01-337 Ind. Bonos Art. 2'!O35 -> 0 | G14: =+'24-01-337 Ind. Bonos Art. 2'!R35 -> 0 | H14: =+'24-01-337 Ind. Bonos Art. 2'!S35 -> 0 | I14: =+'24-01-337 Ind. Bonos Art. 2'!T35 -> 0 | J14: =+'24-01-337 Ind. Bonos Art. 2'!U35 -> 0 | K14: =+'24-01-337 Ind. Bonos Art. 2'!V35 -> 0 | L14: =+'24-01-337 Ind. Bonos Art. 2'!W35 -> 0 | M14: =+'24-01-337 Ind. Bonos Art. 2'!X35 -> 0 | N14: =+'24-01-337 Ind. Bonos Art. 2'!Y35 -> 0 | ... Y14: =+'24-01-337 Ind. Bonos Art. 2'!AJ35 -> 0
A15: BIOBÍO | B15: =+'24-01-337 Ind. Bonos Art. 2'!J39 -> 0 | C15: =+'24-01-337 Ind. Bonos Art. 2'!K39 -> 0 | D15: =+'24-01-337 Ind. Bonos Art. 2'!M39 -> 0 | E15: =+'24-01-337 Ind. Bonos Art. 2'!N39 -> 0 | F15: =+'24-01-337 Ind. Bonos Art. 2'!O39 -> 0 | G15: =+'24-01-337 Ind. Bonos Art. 2'!R39 -> 0 | H15: =+'24-01-337 Ind. Bonos Art. 2'!S39 -> 0 | I15: =+'24-01-337 Ind. Bonos Art. 2'!T39 -> 0 | J15: =+'24-01-337 Ind. Bonos Art. 2'!U39 -> 0 | K15: =+'24-01-337 Ind. Bonos Art. 2'!V39 -> 0 | L15: =+'24-01-337 Ind. Bonos Art. 2'!W39 -> 0 | M15: =+'24-01-337 Ind. Bonos Art. 2'!X39 -> 0 | N15: =+'24-01-337 Ind. Bonos Art. 2'!Y39 -> 0 | ... Y15: =+'24-01-337 Ind. Bonos Art. 2'!AJ39 -> 0
A16: ARAUCANÍA | B16: =+'24-01-337 Ind. Bonos Art. 2'!J43 -> 0 | C16: =+'24-01-337 Ind. Bonos Art. 2'!K43 -> 0 | D16: =+'24-01-337 Ind. Bonos Art. 2'!M43 -> 0 | E16: =+'24-01-337 Ind. Bonos Art. 2'!N43 -> 0 | F16: =+'24-01-337 Ind. Bonos Art. 2'!O43 -> 0 | G16: =+'24-01-337 Ind. Bonos Art. 2'!R43 -> 0 | H16: =+'24-01-337 Ind. Bonos Art. 2'!S43 -> 0 | I16: =+'24-01-337 Ind. Bonos Art. 2'!T43 -> 0 | J16: =+'24-01-337 Ind. Bonos Art. 2'!U43 -> 0 | K16: =+'24-01-337 Ind. Bonos Art. 2'!V43 -> 0 | L16: =+'24-01-337 Ind. Bonos Art. 2'!W43 -> 0 | M16: =+'24-01-337 Ind. Bonos Art. 2'!X43 -> 0 | N16: =+'24-01-337 Ind. Bonos Art. 2'!Y43 -> 0 | ... Y16: =+'24-01-337 Ind. Bonos Art. 2'!AJ43 -> 0
A17: LOS LAGOS | B17: =+'24-01-337 Ind. Bonos Art. 2'!J47 -> 0 | C17: =+'24-01-337 Ind. Bonos Art. 2'!K47 -> 0 | D17: =+'24-01-337 Ind. Bonos Art. 2'!M47 -> 0 | E17: =+'24-01-337 Ind. Bonos Art. 2'!N47 -> 0 | F17: =+'24-01-337 Ind. Bonos Art. 2'!O47 -> 0 | G17: =+'24-01-337 Ind. Bonos Art. 2'!R47 -> 0 | H17: =+'24-01-337 Ind. Bonos Art. 2'!S47 -> 0 | I17: =+'24-01-337 Ind. Bonos Art. 2'!T47 -> 0 | J17: =+'24-01-337 Ind. Bonos Art. 2'!U47 -> 0 | K17: =+'24-01-337 Ind. Bonos Art. 2'!V47 -> 0 | L17: =+'24-01-337 Ind. Bonos Art. 2'!W47 -> 0 | M17: =+'24-01-337 Ind. Bonos Art. 2'!X47 -> 0 | N17: =+'24-01-337 Ind. Bonos Art. 2'!Y47 -> 0 | ... X17: =+'24-01-337 Ind. Bonos Art. 2'!AI47 -> 0 | Y17: =+'24-01-337 Ind. Bonos Art. 2'!AJ44 -> 0
A18: AYSÉN | B18: =+'24-01-337 Ind. Bonos Art. 2'!J51 -> 0 | C18: =+'24-01-337 Ind. Bonos Art. 2'!K51 -> 0 | D18: =+'24-01-337 Ind. Bonos Art. 2'!M51 -> 0 | E18: =+'24-01-337 Ind. Bonos Art. 2'!N51 -> 0 | F18: =+'24-01-337 Ind. Bonos Art. 2'!O51 -> 0 | G18: =+'24-01-337 Ind. Bonos Art. 2'!R51 -> 0 | H18: =+'24-01-337 Ind. Bonos Art. 2'!S51 -> 0 | I18: =+'24-01-337 Ind. Bonos Art. 2'!T51 -> 0 | J18: =+'24-01-337 Ind. Bonos Art. 2'!U51 -> 0 | K18: =+'24-01-337 Ind. Bonos Art. 2'!V51 -> 0 | L18: =+'24-01-337 Ind. Bonos Art. 2'!W51 -> 0 | M18: =+'24-01-337 Ind. Bonos Art. 2'!X51 -> 0 | N18: =+'24-01-337 Ind. Bonos Art. 2'!Y51 -> 0 | ... Y18: =+'24-01-337 Ind. Bonos Art. 2'!AJ51 -> 0
A19: MAGALLANES | B19: =+'24-01-337 Ind. Bonos Art. 2'!J55 -> 0 | C19: =+'24-01-337 Ind. Bonos Art. 2'!K55 -> 0 | D19: =+'24-01-337 Ind. Bonos Art. 2'!M55 -> 0 | E19: =+'24-01-337 Ind. Bonos Art. 2'!N55 -> 0 | F19: =+'24-01-337 Ind. Bonos Art. 2'!O55 -> 0 | G19: =+'24-01-337 Ind. Bonos Art. 2'!R55 -> 0 | H19: =+'24-01-337 Ind. Bonos Art. 2'!S55 -> 0 | I19: =+'24-01-337 Ind. Bonos Art. 2'!T55 -> 0 | J19: =+'24-01-337 Ind. Bonos Art. 2'!U55 -> 0 | K19: =+'24-01-337 Ind. Bonos Art. 2'!V55 -> 0 | L19: =+'24-01-337 Ind. Bonos Art. 2'!W55 -> 0 | M19: =+'24-01-337 Ind. Bonos Art. 2'!X55 -> 0 | N19: =+'24-01-337 Ind. Bonos Art. 2'!Y55 -> 0 | ... Y19: =+'24-01-337 Ind. Bonos Art. 2'!AJ55 -> 0
A20: LOS RÍOS | B20: =+'24-01-337 Ind. Bonos Art. 2'!J59 -> 0 | C20: =+'24-01-337 Ind. Bonos Art. 2'!K59 -> 0 | D20: =+'24-01-337 Ind. Bonos Art. 2'!M59 -> 0 | E20: =+'24-01-337 Ind. Bonos Art. 2'!N59 -> 0 | F20: =+'24-01-337 Ind. Bonos Art. 2'!O59 -> 0 | G20: =+'24-01-337 Ind. Bonos Art. 2'!R59 -> 0 | H20: =+'24-01-337 Ind. Bonos Art. 2'!S59 -> 0 | I20: =+'24-01-337 Ind. Bonos Art. 2'!T59 -> 0 | J20: =+'24-01-337 Ind. Bonos Art. 2'!U59 -> 0 | K20: =+'24-01-337 Ind. Bonos Art. 2'!V59 -> 0 | L20: =+'24-01-337 Ind. Bonos Art. 2'!W59 -> 0 | M20: =+'24-01-337 Ind. Bonos Art. 2'!X59 -> 0 | N20: =+'24-01-337 Ind. Bonos Art. 2'!Y59 -> 0 | ... Y20: =+'24-01-337 Ind. Bonos Art. 2'!AJ59 -> 0
A21: ARICA Y PARINACOTA | B21: =+'24-01-337 Ind. Bonos Art. 2'!J63 -> 0 | C21: =+'24-01-337 Ind. Bonos Art. 2'!K63 -> 0 | D21: =+'24-01-337 Ind. Bonos Art. 2'!M63 -> 0 | E21: =+'24-01-337 Ind. Bonos Art. 2'!N63 -> 0 | F21: =+'24-01-337 Ind. Bonos Art. 2'!O63 -> 0 | G21: =+'24-01-337 Ind. Bonos Art. 2'!R63 -> 0 | H21: =+'24-01-337 Ind. Bonos Art. 2'!S63 -> 0 | I21: =+'24-01-337 Ind. Bonos Art. 2'!T63 -> 0 | J21: =+'24-01-337 Ind. Bonos Art. 2'!U63 -> 0 | K21: =+'24-01-337 Ind. Bonos Art. 2'!V63 -> 0 | L21: =+'24-01-337 Ind. Bonos Art. 2'!W63 -> 0 | M21: =+'24-01-337 Ind. Bonos Art. 2'!X63 -> 0 | N21: =+'24-01-337 Ind. Bonos Art. 2'!Y63 -> 0 | ... Y21: =+'24-01-337 Ind. Bonos Art. 2'!AJ63 -> 0
A22: ÑUBLE | B22: =+'24-01-337 Ind. Bonos Art. 2'!J67 -> 0 | C22: =+'24-01-337 Ind. Bonos Art. 2'!K64 -> 0 | D22: =+'24-01-337 Ind. Bonos Art. 2'!M64 -> 0 | E22: =+'24-01-337 Ind. Bonos Art. 2'!N64 -> 0 | F22: =+'24-01-337 Ind. Bonos Art. 2'!O64 -> 0 | G22: =+'24-01-337 Ind. Bonos Art. 2'!R64 -> 0 | H22: =+'24-01-337 Ind. Bonos Art. 2'!S64 -> 0 | I22: =+'24-01-337 Ind. Bonos Art. 2'!T64 -> 0 | J22: =+'24-01-337 Ind. Bonos Art. 2'!U67 -> 0 | K22: =+'24-01-337 Ind. Bonos Art. 2'!V64 -> 0 | L22: =+'24-01-337 Ind. Bonos Art. 2'!W64 -> 0 | M22: =+'24-01-337 Ind. Bonos Art. 2'!X64 -> 0 | N22: =+'24-01-337 Ind. Bonos Art. 2'!Y67 -> 0 | O22: =+'24-01-337 Ind. Bonos Art. 2'!Z64 -> 0 | P22: =+'24-01-337 Ind. Bonos Art. 2'!AA64 -> 0 | Q22: =+'24-01-337 Ind. Bonos Art. 2'!AB64 -> 0 | R22: =+'24-01-337 Ind. Bonos Art. 2'!AC67 -> 0 | S22: =+'24-01-337 Ind. Bonos Art. 2'!AD64 -> 0 | T22: =+'24-01-337 Ind. Bonos Art. 2'!AE64 -> 0 | U22: =+'24-01-337 Ind. Bonos Art. 2'!AF64 -> 0 | V22: =+'24-01-337 Ind. Bonos Art. 2'!AG67 -> 0 | W22: =+'24-01-337 Ind. Bonos Art. 2'!AH67 -> 0 | X22: =+'24-01-337 Ind. Bonos Art. 2'!AI67 -> 0 | Y22: =+'24-01-337 Ind. Bonos Art. 2'!AJ67 -> 0
A23: METROPOLITANA | B23: =+'24-01-337 Ind. Bonos Art. 2'!J71 -> 0 | C23: =+'24-01-337 Ind. Bonos Art. 2'!K71 -> 0 | D23: =+'24-01-337 Ind. Bonos Art. 2'!M71 -> 0 | E23: =+'24-01-337 Ind. Bonos Art. 2'!N71 -> 0 | F23: =+'24-01-337 Ind. Bonos Art. 2'!O71 -> 0 | G23: =+'24-01-337 Ind. Bonos Art. 2'!R71 -> 0 | H23: =+'24-01-337 Ind. Bonos Art. 2'!S71 -> 0 | I23: =+'24-01-337 Ind. Bonos Art. 2'!T71 -> 0 | J23: =+'24-01-337 Ind. Bonos Art. 2'!U71 -> 0 | K23: =+'24-01-337 Ind. Bonos Art. 2'!V71 -> 0 | L23: =+'24-01-337 Ind. Bonos Art. 2'!W71 -> 0 | M23: =+'24-01-337 Ind. Bonos Art. 2'!X71 -> 0 | N23: =+'24-01-337 Ind. Bonos Art. 2'!Y71 -> 0 | ... Y23: =+'24-01-337 Ind. Bonos Art. 2'!AJ71 -> 0
A24: NIVEL CENTRAL | B24: =+'24-01-337 Ind. Bonos Art. 2'!J74 -> 27769375000 | C24: =+'24-01-337 Ind. Bonos Art. 2'!K74 -> 27769375000 | D24: =+'24-01-337 Ind. Bonos Art. 2'!M74 -> #REF! | E24: =+'24-01-337 Ind. Bonos Art. 2'!N74 -> #REF! | F24: =+'24-01-337 Ind. Bonos Art. 2'!O74 -> #REF! | G24: =+'24-01-337 Ind. Bonos Art. 2'!R74 -> 0 | H24: =+'24-01-337 Ind. Bonos Art. 2'!S74 -> 0 | I24: =+'24-01-337 Ind. Bonos Art. 2'!T74 -> 0 | J24: =+'24-01-337 Ind. Bonos Art. 2'!U74 -> 0 | K24: =+'24-01-337 Ind. Bonos Art. 2'!V74 -> 2303600677 | L24: =+'24-01-337 Ind. Bonos Art. 2'!W74 -> 2326891401 | M24: =+'24-01-337 Ind. Bonos Art. 2'!X74 -> 2384280673 | N24: =+'24-01-337 Ind. Bonos Art. 2'!Y74 -> 7014772751 | ... Y24: =+'24-01-337 Ind. Bonos Art. 2'!AJ74 -> 1
A25: ="TOTAL ASIG."&" "&$A$5 -> TOTAL ASIG. 24-01-337 "Bonos Art. 2 Transitorio, Ley N°19,949" | B25: =SUM(B8:B24) -> 27769375000 | C25: =SUM(C8:C24) -> 27769375000 | D25: =SUM(D8:D24) -> #REF! | E25: =SUM(E8:E24) -> #REF! | F25: =SUM(F8:F24) -> #REF! | G25: =SUM(G8:G24) -> 0 | H25: =SUM(H8:H24) -> 0 | I25: =SUM(I8:I24) -> 0 | ... W25: =SUM(W8:W24) -> 20981356944 | X25: =+'24-01-337 Ind. Bonos Art. 2'!AI75 -> 0.75555741 | Y25: ='24-01-337 Ind. Bonos Art. 2'!AJ75 -> 1

Sheet 24-02-010 Ind. A.Téc SENADIS
A1: PARTIDA 21-01-05 "INGRESO ÉTICO FAMILIAR Y SISTEMA CHILE SOLIDARIO"
A2: INFORME POR PROGRAMA Y REGIÓN
A3: EJECUCIÓN AL 30 SEPTIEMBRE DE 2026
A4: En pesos
A5: 24-02-010 "Programa de Ayudas Técnicas - SENADIS"
A6: Nº | B6: Código Proyecto | C6: REGION | D6: Fecha | E6: Nombre y Razón Social del Ejecutor | F6: Denominación del Programa- Convenio o Transferencia | G6: Modalidad de Asignación | H6: Vigencia del Convenio | J6: Presupuesto por región | K6: Monto del convenio | L6: Productos/y/o Actividades | M6: Beneficiarios | P6: Modalidad de Pago | Q6: Observaciones | R6: EJECUCION DEVENGADA | U6: 1er. Trimestre | V6: EJECUCION DEVENGADA | Y6: 2do. Trimestre | Z6: EJECUCION DEVENGADA | AC6: 3er. Trimestre | AD6: EJECUCION DEVENGADA | AG6: 4to. Trimestre | AH6: Total Anual | AI6: Porcentaje de Participación:
C7: Resolución o Decreto | H7: Inicio | I7: Término | M7: Cobertura | N7: Universo | O7: Tipo de Beneficiarios | R7: Enero | S7: Febrero | T7: Marzo | V7: Abril | W7: Mayo | X7: Junio | Z7: Julio | AA7: Agosto | AB7: Septiembre | AD7: Octubre | AE7: Noviembre | AF7: Diciembre | AI7: Ejecución | AJ7: Del Gasto
A8: TARAPACÁ
A9: 1 | U9: =SUM(R9:T9) -> 0 | Y9: =SUM(V9:X9) -> 0 | AC9: =SUM(Z9:AB9) -> 0 | AG9: =SUM(AD9:AF9) -> 0 | AH9: =SUM(U9,Y9,AC9,AG9) -> 0 | AI9: =IF(ISERROR(AH9/J9),0,AH9/J9) -> 0 | AJ9: =IF(ISERROR(AH9/$AH$76),"-",AH9/$AH$76) -> 0
A10: 2 | U10: =SUM(R10:T10) -> 0 | Y10: =SUM(V10:X10) -> 0 | AC10: =SUM(Z10:AB10) -> 0 | AG10: =SUM(AD10:AF10) -> 0 | AH10: =SUM(U10,Y10,AC10,AG10) -> 0 | AI10: =IF(ISERROR(AH10/J10),0,AH10/J10) -> 0 | AJ10: =IF(ISERROR(AH10/$AH$76),"-",AH10/$AH$76) -> 0
A11: TOTAL REGIÓN DE TARAPACÁ | J11: =SUM(J9:J10) -> 0 | K11: =SUM(K9:K10) -> 0 | M11: =SUM(M9:M10) -> 0 | N11: =SUM(N9:N10) -> 0 | O11: =SUM(O9:O10) -> 0 | R11: =SUM(R9:R10) -> 0 | S11: =SUM(S9:S10) -> 0 | T11: =SUM(T9:T10) -> 0 | U11: =SUM(U9:U10) -> 0 | V11: =SUM(V9:V10) -> 0 | W11: =SUM(W9:W10) -> 0 | X11: =SUM(X9:X10) -> 0 | Y11: =SUM(Y9:Y10) -> 0 | ... AH11: =SUM(AH9:AH10) -> 0 | AI11: =IF(ISERROR(AH11/J11),0,AH11/J11) -> 0 | AJ11: =IF(ISERROR(AH11/$AH$76),0,AH11/$AH$76) -> 0
A12: ANTOFAGASTA
A13: 1 | U13: =SUM(R13:T13) -> 0 | Y13: =SUM(V13:X13) -> 0 | AC13: =SUM(Z13:AB13) -> 0 | AG13: =SUM(AD13:AF13) -> 0 | AH13: =SUM(U13,Y13,AC13,AG13) -> 0 | AI13: =IF(ISERROR(AH13/J13),0,AH13/J13) -> 0 | AJ13: =IF(ISERROR(AH13/$AH$76),"-",AH13/$AH$76) -> 0
A14: 2 | U14: =SUM(R14:T14) -> 0 | Y14: =SUM(V14:X14) -> 0 | AC14: =SUM(Z14:AB14) -> 0 | AG14: =SUM(AD14:AF14) -> 0 | AH14: =SUM(U14,Y14,AC14,AG14) -> 0 | AI14: =IF(ISERROR(AH14/J14),0,AH14/J14) -> 0 | AJ14: =IF(ISERROR(AH14/$AH$76),"-",AH14/$AH$76) -> 0
A15: TOTAL REGIÓN DE ANTOFAGASTA | J15: =SUM(J13:J14) -> 0 | K15: =SUM(K13:K14) -> 0 | M15: =SUM(M13:M14) -> 0 | N15: =SUM(N13:N14) -> 0 | O15: =SUM(O13:O14) -> 0 | R15: =SUM(R13:R14) -> 0 | S15: =SUM(S13:S14) -> 0 | T15: =SUM(T13:T14) -> 0 | U15: =SUM(U13:U14) -> 0 | V15: =SUM(V13:V14) -> 0 | W15: =SUM(W13:W14) -> 0 | X15: =SUM(X13:X14) -> 0 | Y15: =SUM(Y13:Y14) -> 0 | ... AH15: =SUM(AH13:AH14) -> 0 | AI15: =IF(ISERROR(AH15/J15),0,AH15/J15) -> 0 | AJ15: =IF(ISERROR(AH15/$AH$76),0,AH15/$AH$76) -> 0
A16: ATACAMA
A17: 1 | U17: =SUM(R17:T17) -> 0 | Y17: =SUM(V17:X17) -> 0 | AC17: =SUM(Z17:AB17) -> 0 | AG17: =SUM(AD17:AF17) -> 0 | AH17: =SUM(U17,Y17,AC17,AG17) -> 0 | AI17: =IF(ISERROR(AH17/J17),0,AH17/J17) -> 0 | AJ17: =IF(ISERROR(AH17/$AH$76),"-",AH17/$AH$76) -> 0
A18: 2 | U18: =SUM(R18:T18) -> 0 | Y18: =SUM(V18:X18) -> 0 | AC18: =SUM(Z18:AB18) -> 0 | AG18: =SUM(AD18:AF18) -> 0 | AH18: =SUM(U18,Y18,AC18,AG18) -> 0 | AI18: =IF(ISERROR(AH18/J18),0,AH18/J18) -> 0 | AJ18: =IF(ISERROR(AH18/$AH$76),"-",AH18/$AH$76) -> 0
A19: TOTAL REGIÓN DE ATACAMA | J19: =SUM(J17:J18) -> 0 | K19: =SUM(K17:K18) -> 0 | M19: =SUM(M17:M18) -> 0 | N19: =SUM(N17:N18) -> 0 | O19: =SUM(O17:O18) -> 0 | R19: =SUM(R17:R18) -> 0 | S19: =SUM(S17:S18) -> 0 | T19: =SUM(T17:T18) -> 0 | U19: =SUM(U17:U18) -> 0 | V19: =SUM(V17:V18) -> 0 | W19: =SUM(W17:W18) -> 0 | X19: =SUM(X17:X18) -> 0 | Y19: =SUM(Y17:Y18) -> 0 | ... AH19: =SUM(AH17:AH18) -> 0 | AI19: =IF(ISERROR(AH19/J19),0,AH19/J19) -> 0 | AJ19: =IF(ISERROR(AH19/$AH$76),0,AH19/$AH$76) -> 0
A20: COQUIMBO
A21: 1 | U21: =SUM(R21:T21) -> 0 | Y21: =SUM(V21:X21) -> 0 | AC21: =SUM(Z21:AB21) -> 0 | AG21: =SUM(AD21:AF21) -> 0 | AH21: =SUM(U21,Y21,AC21,AG21) -> 0 | AI21: =IF(ISERROR(AH21/J21),0,AH21/J21) -> 0 | AJ21: =IF(ISERROR(AH21/$AH$76),"-",AH21/$AH$76) -> 0
A22: 2 | U22: =SUM(R22:T22) -> 0 | Y22: =SUM(V22:X22) -> 0 | AC22: =SUM(Z22:AB22) -> 0 | AG22: =SUM(AD22:AF22) -> 0 | AH22: =SUM(U22,Y22,AC22,AG22) -> 0 | AI22: =IF(ISERROR(AH22/J22),0,AH22/J22) -> 0 | AJ22: =IF(ISERROR(AH22/$AH$76),"-",AH22/$AH$76) -> 0
A23: TOTAL REGIÓN DE COQUIMBO | J23: =SUM(J21:J22) -> 0 | K23: =SUM(K21:K22) -> 0 | M23: =SUM(M21:M22) -> 0 | N23: =SUM(N21:N22) -> 0 | O23: =SUM(O21:O22) -> 0 | R23: =SUM(R21:R22) -> 0 | S23: =SUM(S21:S22) -> 0 | T23: =SUM(T21:T22) -> 0 | U23: =SUM(U21:U22) -> 0 | V23: =SUM(V21:V22) -> 0 | W23: =SUM(W21:W22) -> 0 | X23: =SUM(X21:X22) -> 0 | Y23: =SUM(Y21:Y22) -> 0 | ... AH23: =SUM(AH21:AH22) -> 0 | AI23: =IF(ISERROR(AH23/J23),0,AH23/J23) -> 0 | AJ23: =IF(ISERROR(AH23/$AH$76),0,AH23/$AH$76) -> 0
A24: VALPARAÍSO
A25: 1 | U25: =SUM(R25:T25) -> 0 | Y25: =SUM(V25:X25) -> 0 | AC25: =SUM(Z25:AB25) -> 0 | AE25: 0 | AF25: 0 | AG25: =SUM(AD25:AF25) -> 0 | AH25: =SUM(U25,Y25,AC25,AG25) -> 0 | AI25: =IF(ISERROR(AH25/J25),0,AH25/J25) -> 0 | AJ25: =IF(ISERROR(AH25/$AH$76),"-",AH25/$AH$76) -> 0
A26: 2 | U26: =SUM(R26:T26) -> 0 | Y26: =SUM(V26:X26) -> 0 | AC26: =SUM(Z26:AB26) -> 0 | AE26: 0 | AF26: 0 | AG26: =SUM(AD26:AF26) -> 0 | AH26: =SUM(U26,Y26,AC26,AG26) -> 0 | AI26: =IF(ISERROR(AH26/J26),0,AH26/J26) -> 0 | AJ26: =IF(ISERROR(AH26/$AH$76),"-",AH26/$AH$76) -> 0
A27: TOTAL REGIÓN DE VALPARAÍSO | J27: =SUM(J25:J26) -> 0 | K27: =SUM(K25:K26) -> 0 | M27: =SUM(M25:M26) -> 0 | N27: =SUM(N25:N26) -> 0 | O27: =SUM(O25:O26) -> 0 | R27: =SUM(R25:R26) -> 0 | S27: =SUM(S25:S26) -> 0 | T27: =SUM(T25:T26) -> 0 | U27: =SUM(U25:U26) -> 0 | V27: =SUM(V25:V26) -> 0 | W27: =SUM(W25:W26) -> 0 | X27: =SUM(X25:X26) -> 0 | Y27: =SUM(Y25:Y26) -> 0 | ... AH27: =SUM(AH25:AH26) -> 0 | AI27: =IF(ISERROR(AH27/J27),0,AH27/J27) -> 0 | AJ27: =IF(ISERROR(AH27/$AH$76),0,AH27/$AH$76) -> 0
A28: LIBERTADOR B. O HIGGINS
A29: 1 | U29: =SUM(R29:T29) -> 0 | Y29: =SUM(V29:X29) -> 0 | AC29: =SUM(Z29:AB29) -> 0 | AG29: =SUM(AD29:AF29) -> 0 | AH29: =SUM(U29,Y29,AC29,AG29) -> 0 | AI29: =IF(ISERROR(AH29/J29),0,AH29/J29) -> 0 | AJ29: =IF(ISERROR(AH29/$AH$76),"-",AH29/$AH$76) -> 0
A30: 2 | U30: =SUM(R30:T30) -> 0 | Y30: =SUM(V30:X30) -> 0 | AC30: =SUM(Z30:AB30) -> 0 | AG30: =SUM(AD30:AF30) -> 0 | AH30: =SUM(U30,Y30,AC30,AG30) -> 0 | AI30: =IF(ISERROR(AH30/J30),0,AH30/J30) -> 0 | AJ30: =IF(ISERROR(AH30/$AH$76),"-",AH30/$AH$76) -> 0
A31: TOTAL REGIÓN DEL LIBERTADOR GENERAL BERNARDO O'HIGGINS | J31: =SUM(J29:J30) -> 0 | K31: =SUM(K29:K30) -> 0 | M31: =SUM(M29:M30) -> 0 | N31: =SUM(N29:N30) -> 0 | O31: =SUM(O29:O30) -> 0 | R31: =SUM(R29:R30) -> 0 | S31: =SUM(S29:S30) -> 0 | T31: =SUM(T29:T30) -> 0 | U31: =SUM(U29:U30) -> 0 | V31: =SUM(V29:V30) -> 0 | W31: =SUM(W29:W30) -> 0 | X31: =SUM(X29:X30) -> 0 | Y31: =SUM(Y29:Y30) -> 0 | ... AH31: =SUM(AH29:AH30) -> 0 | AI31: =IF(ISERROR(AH31/J31),0,AH31/J31) -> 0 | AJ31: =IF(ISERROR(AH31/$AH$76),0,AH31/$AH$76) -> 0
A32: MAULE
A33: 1 | U33: =SUM(R33:T33) -> 0 | Y33: =SUM(V33:X33) -> 0 | AC33: =SUM(Z33:AB33) -> 0 | AG33: =SUM(AD33:AF33) -> 0 | AH33: =SUM(U33,Y33,AC33,AG33) -> 0 | AI33: =IF(ISERROR(AH33/J33),0,AH33/J33) -> 0 | AJ33: =IF(ISERROR(AH33/$AH$76),"-",AH33/$AH$76) -> 0
A34: 2 | U34: =SUM(R34:T34) -> 0 | Y34: =SUM(V34:X34) -> 0 | AC34: =SUM(Z34:AB34) -> 0 | AG34: =SUM(AD34:AF34) -> 0 | AH34: =SUM(U34,Y34,AC34,AG34) -> 0 | AI34: =IF(ISERROR(AH34/J34),0,AH34/J34) -> 0 | AJ34: =IF(ISERROR(AH34/$AH$76),"-",AH34/$AH$76) -> 0
A35: TOTAL REGIÓN DEL MAULE | J35: =SUM(J33:J34) -> 0 | K35: =SUM(K33:K34) -> 0 | M35: =SUM(M33:M34) -> 0 | N35: =SUM(N33:N34) -> 0 | O35: =SUM(O33:O34) -> 0 | R35: =SUM(R33:R34) -> 0 | S35: =SUM(S33:S34) -> 0 | T35: =SUM(T33:T34) -> 0 | U35: =SUM(U33:U34) -> 0 | V35: =SUM(V33:V34) -> 0 | W35: =SUM(W33:W34) -> 0 | X35: =SUM(X33:X34) -> 0 | Y35: =SUM(Y33:Y34) -> 0 | ... AH35: =SUM(AH33:AH34) -> 0 | AI35: =IF(ISERROR(AH35/J35),0,AH35/J35) -> 0 | AJ35: =IF(ISERROR(AH35/$AH$76),0,AH35/$AH$76) -> 0
A36: BIOBÍO
A37: 1 | U37: =SUM(R37:T37) -> 0 | Y37: =SUM(V37:X37) -> 0 | AC37: =SUM(Z37:AB37) -> 0 | AG37: =SUM(AD37:AF37) -> 0 | AH37: =SUM(U37,Y37,AC37,AG37) -> 0 | AI37: =IF(ISERROR(AH37/J37),0,AH37/J37) -> 0 | AJ37: =IF(ISERROR(AH37/$AH$76),"-",AH37/$AH$76) -> 0
A38: 2 | U38: =SUM(R38:T38) -> 0 | Y38: =SUM(V38:X38) -> 0 | AC38: =SUM(Z38:AB38) -> 0 | AG38: =SUM(AD38:AF38) -> 0 | AH38: =SUM(U38,Y38,AC38,AG38) -> 0 | AI38: =IF(ISERROR(AH38/J38),0,AH38/J38) -> 0 | AJ38: =IF(ISERROR(AH38/$AH$76),"-",AH38/$AH$76) -> 0
A39: TOTAL REGIÓN DEL BIOBÍO | J39: =SUM(J37:J38) -> 0 | K39: =SUM(K37:K38) -> 0 | M39: =SUM(M37:M38) -> 0 | N39: =SUM(N37:N38) -> 0 | O39: =SUM(O37:O38) -> 0 | R39: =SUM(R37:R38) -> 0 | S39: =SUM(S37:S38) -> 0 | T39: =SUM(T37:T38) -> 0 | U39: =SUM(U37:U38) -> 0 | V39: =SUM(V37:V38) -> 0 | W39: =SUM(W37:W38) -> 0 | X39: =SUM(X37:X38) -> 0 | Y39: =SUM(Y37:Y38) -> 0 | ... AH39: =SUM(AH37:AH38) -> 0 | AI39: =IF(ISERROR(AH39/J39),0,AH39/J39) -> 0 | AJ39: =IF(ISERROR(AH39/$AH$76),0,AH39/$AH$76) -> 0
A40: ARAUCANÍA
...

Sheet 24-02-010 Res. A.Téc SENADIS
A1: PARTIDA 21-01-05 "INGRESO ÉTICO FAMILIAR Y SISTEMA CHILE SOLIDARIO"
A2: INFORME POR PROGRAMA Y REGIÓN
A3: EJECUCIÓN AL 30 SEPTIEMBRE DE 2026
A4: En pesos
A5: 24-02-010 "Programa de Ayudas Técnicas - SENADIS"
A6: REGION | B6: Presupuesto por región | C6: Total Convenios | D6: Beneficiarios | G6: EJECUCION DEVENGADA | J6: 1er. Trimestre | K6: EJECUCION DEVENGADA | N6: 2do. Trimestre | O6: EJECUCION DEVENGADA | R6: 3er. Trimestre | S6: EJECUCION DEVENGADA | V6: 4to. Trimestre | W6: Total Anual | X6: Porcentaje de:
D7: Cobertura | E7: Universo | F7: Tipo de Beneficiarios | G7: Enero | H7: Febrero | I7: Marzo | K7: Abril | L7: Mayo | M7: Junio | O7: Julio | P7: Agosto | Q7: Septiembre | S7: Octubre | T7: Noviembre | U7: Diciembre | X7: Ejecución | Y7: Participación del Gasto
A8: TARAPACÁ | B8: =+'24-02-010 Ind. A.Téc SENADIS'!J11 -> 0 | C8: =+'24-02-010 Ind. A.Téc SENADIS'!K11 -> 0 | D8: =+'24-02-010 Ind. A.Téc SENADIS'!M11 -> 0 | E8: =+'24-02-010 Ind. A.Téc SENADIS'!N11 -> 0 | F8: =+'24-02-010 Ind. A.Téc SENADIS'!O11 -> 0 | G8: =+'24-02-010 Ind. A.Téc SENADIS'!R11 -> 0 | H8: =+'24-02-010 Ind. A.Téc SENADIS'!S11 -> 0 | I8: =+'24-02-010 Ind. A.Téc SENADIS'!T11 -> 0 | J8: =+'24-02-010 Ind. A.Téc SENADIS'!U11 -> 0 | K8: =+'24-02-010 Ind. A.Téc SENADIS'!V11 -> 0 | L8: =+'24-02-010 Ind. A.Téc SENADIS'!W11 -> 0 | M8: =+'24-02-010 Ind. A.Téc SENADIS'!X11 -> 0 | N8: =+'24-02-010 Ind. A.Téc SENADIS'!Y11 -> 0 | ... Y8: =+'24-02-010 Ind. A.Téc SENADIS'!AJ11 -> 0
A9: ANTOFAGASTA | B9: =+'24-02-010 Ind. A.Téc SENADIS'!J15 -> 0 | C9: =+'24-02-010 Ind. A.Téc SENADIS'!K15 -> 0 | D9: =+'24-02-010 Ind. A.Téc SENADIS'!M15 -> 0 | E9: =+'24-02-010 Ind. A.Téc SENADIS'!N15 -> 0 | F9: =+'24-02-010 Ind. A.Téc SENADIS'!O15 -> 0 | G9: =+'24-02-010 Ind. A.Téc SENADIS'!R15 -> 0 | H9: =+'24-02-010 Ind. A.Téc SENADIS'!S15 -> 0 | I9: =+'24-02-010 Ind. A.Téc SENADIS'!T15 -> 0 | J9: =+'24-02-010 Ind. A.Téc SENADIS'!U15 -> 0 | K9: =+'24-02-010 Ind. A.Téc SENADIS'!V15 -> 0 | L9: =+'24-02-010 Ind. A.Téc SENADIS'!W15 -> 0 | M9: =+'24-02-010 Ind. A.Téc SENADIS'!X15 -> 0 | N9: =+'24-02-010 Ind. A.Téc SENADIS'!Y15 -> 0 | ... Y9: =+'24-02-010 Ind. A.Téc SENADIS'!AJ15 -> 0
A10: ATACAMA | B10: =+'24-02-010 Ind. A.Téc SENADIS'!J19 -> 0 | C10: =+'24-02-010 Ind. A.Téc SENADIS'!K19 -> 0 | D10: =+'24-02-010 Ind. A.Téc SENADIS'!M19 -> 0 | E10: =+'24-02-010 Ind. A.Téc SENADIS'!N19 -> 0 | F10: =+'24-02-010 Ind. A.Téc SENADIS'!O19 -> 0 | G10: =+'24-02-010 Ind. A.Téc SENADIS'!R19 -> 0 | H10: =+'24-02-010 Ind. A.Téc SENADIS'!S19 -> 0 | I10: =+'24-02-010 Ind. A.Téc SENADIS'!T19 -> 0 | J10: =+'24-02-010 Ind. A.Téc SENADIS'!U19 -> 0 | K10: =+'24-02-010 Ind. A.Téc SENADIS'!V19 -> 0 | L10: =+'24-02-010 Ind. A.Téc SENADIS'!W19 -> 0 | M10: =+'24-02-010 Ind. A.Téc SENADIS'!X19 -> 0 | N10: =+'24-02-010 Ind. A.Téc SENADIS'!Y19 -> 0 | ... Y10: =+'24-02-010 Ind. A.Téc SENADIS'!AJ19 -> 0
A11: COQUIMBO | B11: =+'24-02-010 Ind. A.Téc SENADIS'!J23 -> 0 | C11: =+'24-02-010 Ind. A.Téc SENADIS'!K23 -> 0 | D11: =+'24-02-010 Ind. A.Téc SENADIS'!M23 -> 0 | E11: =+'24-02-010 Ind. A.Téc SENADIS'!N23 -> 0 | F11: =+'24-02-010 Ind. A.Téc SENADIS'!O23 -> 0 | G11: =+'24-02-010 Ind. A.Téc SENADIS'!R23 -> 0 | H11: =+'24-02-010 Ind. A.Téc SENADIS'!S23 -> 0 | I11: =+'24-02-010 Ind. A.Téc SENADIS'!T23 -> 0 | J11: =+'24-02-010 Ind. A.Téc SENADIS'!U23 -> 0 | K11: =+'24-02-010 Ind. A.Téc SENADIS'!V23 -> 0 | L11: =+'24-02-010 Ind. A.Téc SENADIS'!W23 -> 0 | M11: =+'24-02-010 Ind. A.Téc SENADIS'!X23 -> 0 | N11: =+'24-02-010 Ind. A.Téc SENADIS'!Y23 -> 0 | ... Y11: =+'24-02-010 Ind. A.Téc SENADIS'!AJ23 -> 0
